{"text_format":"1","workbook":"xlsx","n_sheets":14,"sheets":["Dane podstawowe","Arkusz zbiorczy","Uczniowie","Uczniowie I","Uczniowie II","Uczniowie III","Sukcesy","Wnioski","Wnioski II","Nobel","LekcjeZrealizowane","Zachowanie 1","Zachowanie 2","Zachowanie 3"],"not_rendered":{"charts":0,"images":0,"macros":1,"external_links":0,"defined_names":2,"comments":1,"pivot_tables":0},"unopened":[],"bounds":{"document_bytes":16777216,"sheet_cells":100000,"rows_first":2000,"rows_last":500,"rows_between":2000,"halvings":0,"cell_chars":16384,"cell_head_chars":4096},"cells_cut":0,"cells_raw":0,"read":"whole","date_system":"1900"}

{"sheet":"Dane podstawowe","index":0,"n_rows":102,"n_cols":11,"rows_kept":102,"cut":false,"hidden":false,"merged":[[32,4,32,5],[30,4,30,5],[26,4,26,5],[27,4,27,5],[28,4,28,5],[29,4,29,5],[5,3,5,7],[15,3,15,7],[16,4,16,5],[21,4,21,5],[17,4,17,5],[18,4,18,5],[19,4,19,5],[20,4,20,5],[7,0,7,1],[23,4,23,5],[31,4,31,5],[24,4,24,5],[25,4,25,5]]}
["Klasa:",null,"Kod klasy:",{"$f":"IF(B1<>\"\",2025-LEFT(B1,1)&RIGHT(B1,1),\"\")","v":""}]
["Wychowawca:",{"$f":"IF(ISERROR(VLOOKUP(B1,A73:B102,2)),\"\", VLOOKUP(B1,A73:B102,2))","v":""},"Adres e-mail wychowawcy"]
["Stan klasy:",null,"Wypełnianie arkusza należy rozpocząć od zakładki drugiej: Arkusz zbiorczy. Arkusze: Uczniowie i Uczniowie I pobierają dane z Arkusza zbiorczego"]
["Frekwencja:",0,"Podczas pracy z dokumentem makra muszą być włączone!"]
["Godziny nieusprawiedliwione:",{"$f":"SUM('Arkusz zbiorczy'!AG3:AG32)","v":0}]
["Spóźnienia:",{"$f":"SUM('Arkusz zbiorczy'!AH3:AH32)","v":0},null,"WYCIECZKI - ZIELONE SZKOŁY"]
[null,null,null,"Miejscowość","województwo","data","liczba uczestników","liczba dni"]
["Kontakty z rodzicami (ile)"]
["Zebrania:"]
["Konsultacje:"]
["Spotaknia indywidualne:"]
[]
[null,null,null,null,null,null,null,null,null,"jednodniowe",{"$f":"COUNTIF(H8:H13,1)","v":0}]
[null,null,null,null,null,null,null,null,null,"kilkudniowe",{"$f":"COUNTIF(H8:H13,\">1\")","v":0}]
[]
[null,null,null,"KINO - MUZEUM - KONCERT - LODOWISKO - INNE WYJŚCIA"]
[null,null,null,"Instytucja","Cel",null,"liczba uczestników","data"]
[]
[]
[]
[]
[]
[]
[]
[]
[null,null,null,null,null,null,null,null,null,"wyjścia",{"$f":"COUNTA(D18:D26)","v":0}]
[]
[]
[]
[]
[]
[]
[]
[]
[]
[]
[null,null,null,"dolnośląskie"]
[null,null,null,"kujawsko-pomorskie"]
[null,null,null,"lubelskie"]
[null,null,null,"lubuskie"]
[null,null,null,"łódzkie"]
[null,null,null,"małopolskie"]
[null,null,null,"mazowieckie"]
[null,null,null,"opolskie"]
[null,null,null,"podkarpackie"]
[null,null,null,"podlaskie"]
[null,null,null,"pomorskie"]
[null,null,null,"śląskie"]
[null,null,null,"świętokrzyskie"]
[null,null,null,"warmińsko-mazurskie"]
[null,null,null,"wielkopolskie"]
[null,null,null,"zachodniopomorskie"]
[]
[]
[]
[]
[]
[]
[]
[]
[]
[]
[]
[]
[]
[]
[]
[]
[]
[]
[]
[]
["1a","Bartczak Celina",1]
["1b","Wilewicz Marzena",2]
["1c","Stepek Katarzyna",3]
["1d","Besser Anna",4]
["2a","Partyka Agnieszka",5]
["2b","Kihan Bożena",6]
["2c","Szymańska Sandra",7]
["2d","Halamus Agnieszka",8]
["3a","Bobrowska Jolanta",9]
["3b","Szczytkowska Anna",10]
["3c","Misiak Urszula",11]
["3d","Giedzińska Małgorzata",12]
["3f","Wodowska Katarzyna",13]
["4a","Tetkowska Katarzyna",1]
["4b","Łuczak Szymon",2]
["4c","Wójcik Aleksandra",3]
["4d","Chmolewska Edyta",4]
["5a","Pijanowska Katarzyna",5]
["5b","Węgłowska Anna",6]
["5c","Felkiel Anna",7]
["6a","Kołacz Edyta",8]
["6b","Pacyna Katarzyna",9]
["6c","Padewska-Berger Anna",10]
["7a","Skrobot Małgorzata",11]
["7b","Wieczorkowska Marta",12]
["7c","Kobuszewski Janusz",13]
["8a","Rząsa-Piątek Joanna",14]
["8b","Czarnoleska Daria",15]
["8c","Wojtuś Barbara",16]
["8d","Śnihur Laura",17]

{"sheet":"Arkusz zbiorczy","index":1,"n_rows":71,"n_cols":44,"rows_kept":71,"cut":false,"hidden":false,"merged":[[33,1,33,2],[34,1,34,2],[0,33,1,33],[32,0,32,33],[0,0,1,0],[0,2,1,2],[0,3,0,23],[0,24,1,24],[0,1,1,1],[0,25,0,30],[0,31,0,32],[34,25,34,31],[42,25,42,31],[43,25,43,31],[39,1,39,2],[35,25,35,31],[36,25,36,31],[35,1,35,2],[36,1,36,2],[38,25,38,31],[37,1,37,2],[38,1,38,2],[40,25,40,27],[40,28,40,32],[37,25,37,31]]}
[null,"Nazwisko i imię ucznia\n(kolejność według dziennika lekcyjnego)","Zachowanie","Nazwa   przedmiotu",null,null,null,null,null,null,null,null,null,null,null,null,null,null,null,null,null,null,null,null,"Średnia","Liczba ocen",null,null,null,null,null,"Liczba opuszczonych godzin",null,"Liczba spóźnień"]
[null,null,null,"j. polski","j.angielski","j. hiszpański","historia","matematyka","przyroda","geografia","biologia","chemia","fizyka","wiedza o społeczeństwie","muzyka","plastyka","informatyka","technika","w-f","edukacja dla bezpieczeństwa","warsztaty twórcze IV-VI",null,"religia","etyka",null,"celujących","b. dobrych","dobrych","dostat.","dopuszcz.","niedostat.","usprawiedliwionych","nieusprawiedliwionych",null,null,null,null,null,"zachowanie","nieklasyf","jedynka",null,"bez 1-2-3","tarcza"]
["1.",null,null,null,null,null,null,null,null,null,null,null,null,null,null,null,null,null,null,null,null,null,null,null,{"$f":"IF(ISERROR(AVERAGE(IF(D3:V3<>0,D3:V3))),\"\",AVERAGE(IF(D3:V3<>0,D3:V3)))","v":""},{"$f":"COUNTIF(D3:X3,6)","v":0},{"$f":"COUNTIF(D3:X3,5)","v":0},{"$f":"COUNTIF(D3:X3,4)","v":0},{"$f":"COUNTIF(D3:X3,3)","v":0},{"$f":"COUNTIF(D3:X3,2)","v":0},{"$f":"COUNTIF(D3:X3,1)","v":0},null,null,null,{"$f":"IF(LEFT('Dane podstawowe'!$B$1,1)=\"8\",'Arkusz zbiorczy'!AR3,\"\")","v":""},{"$f":"IF(ISERROR(AVERAGE(IF(D3:W3<>0,D3:W3))),\"\",(AVERAGE(IF(D3:W3<>0,D3:W3))))","v":""},{"$f":"AJ3=Y3","v":true},null,{"$f":"IF(OR(C3=\"wzorowe\",C3=\"bardzo dobre\"),1,0)","v":0},{"$f":"COUNTIF(D3:X3,\"n\")","v":0},{"$f":"COUNTIF(D3:X3,1)","v":0},{"$f":"IF(AND(AM3=1,AN3=0,AO3=0,Y3>=4.75),1,0)","v":0},{"$f":"SUM(AC3:AE3)","v":0},{"$f":"IF(AND(AM3=1,AQ3=0,AJ3>=5,AJ3<>\"\"),IF(AND(AJ3>=5.4,C3=\"wzorowe\"),\"Złota Tarcza\",\"Srebrna Tarcza\"),\"\")","v":""}]
["2.",null,null,null,null,null,null,null,null,null,null,null,null,null,null,null,null,null,null,null,null,null,null,null,{"$f":"IF(ISERROR(AVERAGE(IF(D4:V4<>0,D4:V4))),\"\",AVERAGE(IF(D4:V4<>0,D4:V4)))","v":""},{"$f":"COUNTIF(D4:X4,6)","v":0},{"$f":"COUNTIF(D4:X4,5)","v":0},{"$f":"COUNTIF(D4:X4,4)","v":0},{"$f":"COUNTIF(D4:X4,3)","v":0},{"$f":"COUNTIF(D4:X4,2)","v":0},{"$f":"COUNTIF(D4:X4,1)","v":0},null,null,null,{"$f":"IF(LEFT('Dane podstawowe'!$B$1,1)=\"8\",'Arkusz zbiorczy'!AR4,\"\")","v":""},{"$f":"IF(ISERROR(AVERAGE(IF(D4:W4<>0,D4:W4))),\"\",(AVERAGE(IF(D4:W4<>0,D4:W4))))","v":""},{"$f":"AJ4=Y4","v":true},null,{"$f":"IF(OR(C4=\"wzorowe\",C4=\"bardzo dobre\"),1,0)","v":0},{"$f":"COUNTIF(D4:X4,\"n\")","v":0},{"$f":"COUNTIF(D4:X4,1)","v":0},{"$f":"IF(AND(AM4=1,AN4=0,AO4=0,Y4>=4.75),1,0)","v":0},{"$f":"SUM(AC4:AE4)","v":0},{"$f":"IF(AND(AM4=1,AQ4=0,AJ4>=5,AJ4<>\"\"),IF(AND(AJ4>=5.4,C4=\"wzorowe\"),\"Złota Tarcza\",\"Srebrna Tarcza\"),\"\")","v":""}]
["3.",null,null,null,null,null,null,null,null,null,null,null,null,null,null,null,null,null,null,null,null,null,null,null,{"$f":"IF(ISERROR(AVERAGE(IF(D5:V5<>0,D5:V5))),\"\",AVERAGE(IF(D5:V5<>0,D5:V5)))","v":""},0,0,0,0,0,0,null,null,null,{"$f":"IF(LEFT('Dane podstawowe'!$B$1,1)=\"8\",'Arkusz zbiorczy'!AR5,\"\")","v":""},{"$f":"IF(ISERROR(AVERAGE(IF(D5:W5<>0,D5:W5))),\"\",(AVERAGE(IF(D5:W5<>0,D5:W5))))","v":""},true,null,0,0,0,0,0,""]
["4.",null,null,null,null,null,null,null,null,null,null,null,null,null,null,null,null,null,null,null,null,null,null,null,{"$f":"IF(ISERROR(AVERAGE(IF(D6:V6<>0,D6:V6))),\"\",AVERAGE(IF(D6:V6<>0,D6:V6)))","v":""},0,0,0,0,0,0,null,null,null,{"$f":"IF(LEFT('Dane podstawowe'!$B$1,1)=\"8\",'Arkusz zbiorczy'!AR6,\"\")","v":""},{"$f":"IF(ISERROR(AVERAGE(IF(D6:W6<>0,D6:W6))),\"\",(AVERAGE(IF(D6:W6<>0,D6:W6))))","v":""},true,null,0,0,0,0,0,""]
["5.",null,null,null,null,null,null,null,null,null,null,null,null,null,null,null,null,null,null,null,null,null,null,null,{"$f":"IF(ISERROR(AVERAGE(IF(D7:V7<>0,D7:V7))),\"\",AVERAGE(IF(D7:V7<>0,D7:V7)))","v":""},0,0,0,0,0,0,null,null,null,{"$f":"IF(LEFT('Dane podstawowe'!$B$1,1)=\"8\",'Arkusz zbiorczy'!AR7,\"\")","v":""},{"$f":"IF(ISERROR(AVERAGE(IF(D7:W7<>0,D7:W7))),\"\",(AVERAGE(IF(D7:W7<>0,D7:W7))))","v":""},true,null,0,0,0,0,0,""]
["6.",null,null,null,null,null,null,null,null,null,null,null,null,null,null,null,null,null,null,null,null,null,null,null,{"$f":"IF(ISERROR(AVERAGE(IF(D8:V8<>0,D8:V8))),\"\",AVERAGE(IF(D8:V8<>0,D8:V8)))","v":""},0,0,0,0,0,0,null,null,null,{"$f":"IF(LEFT('Dane podstawowe'!$B$1,1)=\"8\",'Arkusz zbiorczy'!AR8,\"\")","v":""},{"$f":"IF(ISERROR(AVERAGE(IF(D8:W8<>0,D8:W8))),\"\",(AVERAGE(IF(D8:W8<>0,D8:W8))))","v":""},true,null,0,0,0,0,0,""]
["7.",null,null,null,null,null,null,null,null,null,null,null,null,null,null,null,null,null,null,null,null,null,null,null,{"$f":"IF(ISERROR(AVERAGE(IF(D9:V9<>0,D9:V9))),\"\",AVERAGE(IF(D9:V9<>0,D9:V9)))","v":""},0,0,0,0,0,0,null,null,null,{"$f":"IF(LEFT('Dane podstawowe'!$B$1,1)=\"8\",'Arkusz zbiorczy'!AR9,\"\")","v":""},{"$f":"IF(ISERROR(AVERAGE(IF(D9:W9<>0,D9:W9))),\"\",(AVERAGE(IF(D9:W9<>0,D9:W9))))","v":""},true,null,0,0,0,0,0,""]
["8.",null,null,null,null,null,null,null,null,null,null,null,null,null,null,null,null,null,null,null,null,null,null,null,{"$f":"IF(ISERROR(AVERAGE(IF(D10:V10<>0,D10:V10))),\"\",AVERAGE(IF(D10:V10<>0,D10:V10)))","v":""},0,0,0,0,0,0,null,null,null,{"$f":"IF(LEFT('Dane podstawowe'!$B$1,1)=\"8\",'Arkusz zbiorczy'!AR10,\"\")","v":""},{"$f":"IF(ISERROR(AVERAGE(IF(D10:W10<>0,D10:W10))),\"\",(AVERAGE(IF(D10:W10<>0,D10:W10))))","v":""},true,null,0,0,0,0,0,""]
["9.",null,null,null,null,null,null,null,null,null,null,null,null,null,null,null,null,null,null,null,null,null,null,null,{"$f":"IF(ISERROR(AVERAGE(IF(D11:V11<>0,D11:V11))),\"\",AVERAGE(IF(D11:V11<>0,D11:V11)))","v":""},0,0,0,0,0,0,null,null,null,{"$f":"IF(LEFT('Dane podstawowe'!$B$1,1)=\"8\",'Arkusz zbiorczy'!AR11,\"\")","v":""},{"$f":"IF(ISERROR(AVERAGE(IF(D11:W11<>0,D11:W11))),\"\",(AVERAGE(IF(D11:W11<>0,D11:W11))))","v":""},true,null,0,0,0,0,0,""]
["10.",null,null,null,null,null,null,null,null,null,null,null,null,null,null,null,null,null,null,null,null,null,null,null,{"$f":"IF(ISERROR(AVERAGE(IF(D12:V12<>0,D12:V12))),\"\",AVERAGE(IF(D12:V12<>0,D12:V12)))","v":""},0,0,0,0,0,0,null,null,null,{"$f":"IF(LEFT('Dane podstawowe'!$B$1,1)=\"8\",'Arkusz zbiorczy'!AR12,\"\")","v":""},{"$f":"IF(ISERROR(AVERAGE(IF(D12:W12<>0,D12:W12))),\"\",(AVERAGE(IF(D12:W12<>0,D12:W12))))","v":""},true,null,0,0,0,0,0,""]
["11.",null,null,null,null,null,null,null,null,null,null,null,null,null,null,null,null,null,null,null,null,null,null,null,{"$f":"IF(ISERROR(AVERAGE(IF(D13:V13<>0,D13:V13))),\"\",AVERAGE(IF(D13:V13<>0,D13:V13)))","v":""},0,0,0,0,0,0,null,null,null,{"$f":"IF(LEFT('Dane podstawowe'!$B$1,1)=\"8\",'Arkusz zbiorczy'!AR13,\"\")","v":""},{"$f":"IF(ISERROR(AVERAGE(IF(D13:W13<>0,D13:W13))),\"\",(AVERAGE(IF(D13:W13<>0,D13:W13))))","v":""},true,null,0,0,0,0,0,""]
["12.",null,null,null,null,null,null,null,null,null,null,null,null,null,null,null,null,null,null,null,null,null,null,null,{"$f":"IF(ISERROR(AVERAGE(IF(D14:V14<>0,D14:V14))),\"\",AVERAGE(IF(D14:V14<>0,D14:V14)))","v":""},0,0,0,0,0,0,null,null,null,{"$f":"IF(LEFT('Dane podstawowe'!$B$1,1)=\"8\",'Arkusz zbiorczy'!AR14,\"\")","v":""},{"$f":"IF(ISERROR(AVERAGE(IF(D14:W14<>0,D14:W14))),\"\",(AVERAGE(IF(D14:W14<>0,D14:W14))))","v":""},true,null,0,0,0,0,0,""]
["13.",null,null,null,null,null,null,null,null,null,null,null,null,null,null,null,null,null,null,null,null,null,null,null,{"$f":"IF(ISERROR(AVERAGE(IF(D15:V15<>0,D15:V15))),\"\",AVERAGE(IF(D15:V15<>0,D15:V15)))","v":""},0,0,0,0,0,0,null,null,null,{"$f":"IF(LEFT('Dane podstawowe'!$B$1,1)=\"8\",'Arkusz zbiorczy'!AR15,\"\")","v":""},{"$f":"IF(ISERROR(AVERAGE(IF(D15:W15<>0,D15:W15))),\"\",(AVERAGE(IF(D15:W15<>0,D15:W15))))","v":""},true,null,0,0,0,0,0,""]
["14.",null,null,null,null,null,null,null,null,null,null,null,null,null,null,null,null,null,null,null,null,null,null,null,{"$f":"IF(ISERROR(AVERAGE(IF(D16:V16<>0,D16:V16))),\"\",AVERAGE(IF(D16:V16<>0,D16:V16)))","v":""},0,0,0,0,0,0,null,null,null,{"$f":"IF(LEFT('Dane podstawowe'!$B$1,1)=\"8\",'Arkusz zbiorczy'!AR16,\"\")","v":""},{"$f":"IF(ISERROR(AVERAGE(IF(D16:W16<>0,D16:W16))),\"\",(AVERAGE(IF(D16:W16<>0,D16:W16))))","v":""},true,null,0,0,0,0,0,""]
["15.",null,null,null,null,null,null,null,null,null,null,null,null,null,null,null,null,null,null,null,null,null,null,null,{"$f":"IF(ISERROR(AVERAGE(IF(D17:V17<>0,D17:V17))),\"\",AVERAGE(IF(D17:V17<>0,D17:V17)))","v":""},0,0,0,0,0,0,null,null,null,{"$f":"IF(LEFT('Dane podstawowe'!$B$1,1)=\"8\",'Arkusz zbiorczy'!AR17,\"\")","v":""},{"$f":"IF(ISERROR(AVERAGE(IF(D17:W17<>0,D17:W17))),\"\",(AVERAGE(IF(D17:W17<>0,D17:W17))))","v":""},true,null,0,0,0,0,0,""]
["16.",null,null,null,null,null,null,null,null,null,null,null,null,null,null,null,null,null,null,null,null,null,null,null,{"$f":"IF(ISERROR(AVERAGE(IF(D18:V18<>0,D18:V18))),\"\",AVERAGE(IF(D18:V18<>0,D18:V18)))","v":""},0,0,0,0,0,0,null,null,null,{"$f":"IF(LEFT('Dane podstawowe'!$B$1,1)=\"8\",'Arkusz zbiorczy'!AR18,\"\")","v":""},{"$f":"IF(ISERROR(AVERAGE(IF(D18:W18<>0,D18:W18))),\"\",(AVERAGE(IF(D18:W18<>0,D18:W18))))","v":""},true,null,0,0,0,0,0,""]
["17.",null,null,null,null,null,null,null,null,null,null,null,null,null,null,null,null,null,null,null,null,null,null,null,{"$f":"IF(ISERROR(AVERAGE(IF(D19:V19<>0,D19:V19))),\"\",AVERAGE(IF(D19:V19<>0,D19:V19)))","v":""},0,0,0,0,0,0,null,null,null,{"$f":"IF(LEFT('Dane podstawowe'!$B$1,1)=\"8\",'Arkusz zbiorczy'!AR19,\"\")","v":""},{"$f":"IF(ISERROR(AVERAGE(IF(D19:W19<>0,D19:W19))),\"\",(AVERAGE(IF(D19:W19<>0,D19:W19))))","v":""},true,null,0,0,0,0,0,""]
["18.",null,null,null,null,null,null,null,null,null,null,null,null,null,null,null,null,null,null,null,null,null,null,null,{"$f":"IF(ISERROR(AVERAGE(IF(D20:V20<>0,D20:V20))),\"\",AVERAGE(IF(D20:V20<>0,D20:V20)))","v":""},0,0,0,0,0,0,null,null,null,{"$f":"IF(LEFT('Dane podstawowe'!$B$1,1)=\"8\",'Arkusz zbiorczy'!AR20,\"\")","v":""},{"$f":"IF(ISERROR(AVERAGE(IF(D20:W20<>0,D20:W20))),\"\",(AVERAGE(IF(D20:W20<>0,D20:W20))))","v":""},true,null,0,0,0,0,0,""]
["19.",null,null,null,null,null,null,null,null,null,null,null,null,null,null,null,null,null,null,null,null,null,null,null,{"$f":"IF(ISERROR(AVERAGE(IF(D21:V21<>0,D21:V21))),\"\",AVERAGE(IF(D21:V21<>0,D21:V21)))","v":""},0,0,0,0,0,0,null,null,null,{"$f":"IF(LEFT('Dane podstawowe'!$B$1,1)=\"8\",'Arkusz zbiorczy'!AR21,\"\")","v":""},{"$f":"IF(ISERROR(AVERAGE(IF(D21:W21<>0,D21:W21))),\"\",(AVERAGE(IF(D21:W21<>0,D21:W21))))","v":""},true,null,0,0,0,0,0,""]
["20.",null,null,null,null,null,null,null,null,null,null,null,null,null,null,null,null,null,null,null,null,null,null,null,{"$f":"IF(ISERROR(AVERAGE(IF(D22:V22<>0,D22:V22))),\"\",AVERAGE(IF(D22:V22<>0,D22:V22)))","v":""},0,0,0,0,0,0,null,null,null,{"$f":"IF(LEFT('Dane podstawowe'!$B$1,1)=\"8\",'Arkusz zbiorczy'!AR22,\"\")","v":""},{"$f":"IF(ISERROR(AVERAGE(IF(D22:W22<>0,D22:W22))),\"\",(AVERAGE(IF(D22:W22<>0,D22:W22))))","v":""},true,null,0,0,0,0,0,""]
["21.",null,null,null,null,null,null,null,null,null,null,null,null,null,null,null,null,null,null,null,null,null,null,null,{"$f":"IF(ISERROR(AVERAGE(IF(D23:V23<>0,D23:V23))),\"\",AVERAGE(IF(D23:V23<>0,D23:V23)))","v":""},0,0,0,0,0,0,null,null,null,{"$f":"IF(LEFT('Dane podstawowe'!$B$1,1)=\"8\",'Arkusz zbiorczy'!AR23,\"\")","v":""},{"$f":"IF(ISERROR(AVERAGE(IF(D23:W23<>0,D23:W23))),\"\",(AVERAGE(IF(D23:W23<>0,D23:W23))))","v":""},true,null,0,0,0,0,0,""]
["22.",null,null,null,null,null,null,null,null,null,null,null,null,null,null,null,null,null,null,null,null,null,null,null,{"$f":"IF(ISERROR(AVERAGE(IF(D24:V24<>0,D24:V24))),\"\",AVERAGE(IF(D24:V24<>0,D24:V24)))","v":""},0,0,0,0,0,0,null,null,null,{"$f":"IF(LEFT('Dane podstawowe'!$B$1,1)=\"8\",'Arkusz zbiorczy'!AR24,\"\")","v":""},{"$f":"IF(ISERROR(AVERAGE(IF(D24:W24<>0,D24:W24))),\"\",(AVERAGE(IF(D24:W24<>0,D24:W24))))","v":""},true,null,0,0,0,0,0,""]
["23.",null,null,null,null,null,null,null,null,null,null,null,null,null,null,null,null,null,null,null,null,null,null,null,{"$f":"IF(ISERROR(AVERAGE(IF(D25:V25<>0,D25:V25))),\"\",AVERAGE(IF(D25:V25<>0,D25:V25)))","v":""},0,0,0,0,0,0,null,null,null,{"$f":"IF(LEFT('Dane podstawowe'!$B$1,1)=\"8\",'Arkusz zbiorczy'!AR25,\"\")","v":""},{"$f":"IF(ISERROR(AVERAGE(IF(D25:W25<>0,D25:W25))),\"\",(AVERAGE(IF(D25:W25<>0,D25:W25))))","v":""},true,null,0,0,0,0,0,""]
["24.",null,null,null,null,null,null,null,null,null,null,null,null,null,null,null,null,null,null,null,null,null,null,null,{"$f":"IF(ISERROR(AVERAGE(IF(D26:V26<>0,D26:V26))),\"\",AVERAGE(IF(D26:V26<>0,D26:V26)))","v":""},0,0,0,0,0,0,null,null,null,{"$f":"IF(LEFT('Dane podstawowe'!$B$1,1)=\"8\",'Arkusz zbiorczy'!AR26,\"\")","v":""},{"$f":"IF(ISERROR(AVERAGE(IF(D26:W26<>0,D26:W26))),\"\",(AVERAGE(IF(D26:W26<>0,D26:W26))))","v":""},true,null,0,0,0,0,0,""]
["25.",null,null,null,null,null,null,null,null,null,null,null,null,null,null,null,null,null,null,null,null,null,null,null,{"$f":"IF(ISERROR(AVERAGE(IF(D27:V27<>0,D27:V27))),\"\",AVERAGE(IF(D27:V27<>0,D27:V27)))","v":""},0,0,0,0,0,0,null,null,null,{"$f":"IF(LEFT('Dane podstawowe'!$B$1,1)=\"8\",'Arkusz zbiorczy'!AR27,\"\")","v":""},{"$f":"IF(ISERROR(AVERAGE(IF(D27:W27<>0,D27:W27))),\"\",(AVERAGE(IF(D27:W27<>0,D27:W27))))","v":""},true,null,0,0,0,0,0,""]
["26.",null,null,null,null,null,null,null,null,null,null,null,null,null,null,null,null,null,null,null,null,null,null,null,{"$f":"IF(ISERROR(AVERAGE(IF(D28:V28<>0,D28:V28))),\"\",AVERAGE(IF(D28:V28<>0,D28:V28)))","v":""},0,0,0,0,0,0,null,null,null,{"$f":"IF(LEFT('Dane podstawowe'!$B$1,1)=\"8\",'Arkusz zbiorczy'!AR28,\"\")","v":""},{"$f":"IF(ISERROR(AVERAGE(IF(D28:W28<>0,D28:W28))),\"\",(AVERAGE(IF(D28:W28<>0,D28:W28))))","v":""},true,null,0,0,0,0,0,""]
["27.",null,null,null,null,null,null,null,null,null,null,null,null,null,null,null,null,null,null,null,null,null,null,null,{"$f":"IF(ISERROR(AVERAGE(IF(D29:V29<>0,D29:V29))),\"\",AVERAGE(IF(D29:V29<>0,D29:V29)))","v":""},0,0,0,0,0,0,null,null,null,{"$f":"IF(LEFT('Dane podstawowe'!$B$1,1)=\"8\",'Arkusz zbiorczy'!AR29,\"\")","v":""},{"$f":"IF(ISERROR(AVERAGE(IF(D29:W29<>0,D29:W29))),\"\",(AVERAGE(IF(D29:W29<>0,D29:W29))))","v":""},true,null,0,0,0,0,0,""]
["28.",null,null,null,null,null,null,null,null,null,null,null,null,null,null,null,null,null,null,null,null,null,null,null,{"$f":"IF(ISERROR(AVERAGE(IF(D30:V30<>0,D30:V30))),\"\",AVERAGE(IF(D30:V30<>0,D30:V30)))","v":""},0,0,0,0,0,0,null,null,null,{"$f":"IF(LEFT('Dane podstawowe'!$B$1,1)=\"8\",'Arkusz zbiorczy'!AR30,\"\")","v":""},{"$f":"IF(ISERROR(AVERAGE(IF(D30:W30<>0,D30:W30))),\"\",(AVERAGE(IF(D30:W30<>0,D30:W30))))","v":""},true,null,0,0,0,0,0,""]
["29.",null,null,null,null,null,null,null,null,null,null,null,null,null,null,null,null,null,null,null,null,null,null,null,{"$f":"IF(ISERROR(AVERAGE(IF(D31:V31<>0,D31:V31))),\"\",AVERAGE(IF(D31:V31<>0,D31:V31)))","v":""},0,0,0,0,0,0,null,null,null,{"$f":"IF(LEFT('Dane podstawowe'!$B$1,1)=\"8\",'Arkusz zbiorczy'!AR31,\"\")","v":""},{"$f":"IF(ISERROR(AVERAGE(IF(D31:W31<>0,D31:W31))),\"\",(AVERAGE(IF(D31:W31<>0,D31:W31))))","v":""},true,null,0,0,0,0,0,""]
["30.",null,null,null,null,null,null,null,null,null,null,null,null,null,null,null,null,null,null,null,null,null,null,null,{"$f":"IF(ISERROR(AVERAGE(IF(D32:V32<>0,D32:V32))),\"\",AVERAGE(IF(D32:V32<>0,D32:V32)))","v":""},0,0,0,0,0,0,null,null,null,{"$f":"IF(LEFT('Dane podstawowe'!$B$1,1)=\"8\",'Arkusz zbiorczy'!AR32,\"\")","v":""},{"$f":"IF(ISERROR(AVERAGE(IF(D32:W32<>0,D32:W32))),\"\",(AVERAGE(IF(D32:W32<>0,D32:W32))))","v":""},true,null,0,0,0,0,0,""]
["Liczba ocen",null,null,null,null,null,null,null,null,null,null,null,null,null,null,null,null,null,null,null,null,null,null,null,null,null,null,null,null,null,null,null,null,null,null,null,null,null,null,{"$f":"COUNTIF(AN3:AN32,\">0\")","v":0}]
[6,"celujących",null,{"$f":"COUNTIF(D$3:D$32,$A34)","v":0},{"$f":"COUNTIF(E$3:E$32,$A34)","v":0},0,0,0,0,0,0,0,0,0,0,0,0,0,0,0,0,0,0,{"$f":"COUNTIF(X$3:X$32,$A34)","v":0}]
[5,"bardzo dobrych",null,0,0,0,0,0,0,0,0,0,0,0,0,0,0,0,0,0,0,0,0,0,null,"Liczba uczniów:",null,null,null,null,null,null,"X"]
[4,"dobrych",null,0,0,0,0,0,0,0,0,0,0,0,0,0,0,0,0,0,0,0,0,0,null,"bez ocen ndst",null,null,null,null,null,null,{"$f":"'Dane podstawowe'!B3-AG37-AG38","v":0}]
[3,"dostatecznych",null,0,0,0,0,0,0,0,0,0,0,0,0,0,0,0,0,0,0,0,0,0,null,"z 1-2 ocenami ndst",null,null,null,null,null,null,{"$f":"((COUNTIF(AE3:AE32,1))+(COUNTIF(AE3:AE32,2)))","v":0}]
[2,"dopuszczających",null,0,0,0,0,0,0,0,0,0,0,0,0,0,0,0,0,0,0,0,0,0,null,"z 3 i więcej ocenami ndst",null,null,null,null,null,null,{"$f":"COUNTIF(AE3:AE32,\">=3\")","v":0}]
[1,"niedostatecznych",null,0,0,0,0,0,0,0,0,0,0,0,0,0,0,0,0,0,0,0,0,0,null,"nieklasyfikowanych",null,null,null,null,null,null,{"$f":"AN33","v":0}]
["n","nieklasyfikowanych",null,0,0,0,0,0,0,0,0,0,0,0,0,0,0,0,0,0,0,0,0,0]
[null,null,null,null,null,null,null,null,null,null,null,null,null,null,null,null,null,null,null,null,null,null,null,null,null,{"$f":"IF(ISERROR(AVERAGE(IF(D3:X32<>0,D3:X32,\" \"))),\"\",AVERAGE(IF(D3:X32<>0,D3:X32,\" \")))","v":""},null,null,"Średnia klasy"]
[null,"wzorowe",{"$f":"COUNTIF(C3:C32,B42:B47)","v":0}]
[null,"bardzo dobre",0,null,null,null,null,null,null,null,null,null,null,null,null,null,null,null,null,null,null,null,null,null,null,"Srebrna Tarcza",null,null,null,null,null,null,{"$f":"COUNTIF($AI$3:$AI$32,Z43)","v":0}]
[null,"dobre",0,null,null,null,null,null,null,null,null,null,null,null,null,null,null,null,null,null,null,null,null,null,null,"Złota Tarcza",null,null,null,null,null,null,{"$f":"COUNTIF($AI$3:$AI$32,Z44)","v":0}]
[null,"poprawne",0]
[null,"nieodpowiednie",0]
[null,"naganne",0]
[]
[]
[]
[]
[]
[]
[]
[]
[null,null,"czy są jedynki",{"$f":"SUM(D39:X39)","v":0}]
[null,null,"czy są naganne",{"$f":"SUM(C45:C47)","v":0}]
[null,null,"nieklasyfikowani",{"$f":"SUM(D40:X40)","v":0}]
[]
[]
[]
[]
[null,null,"wzorowe",null,1]
[null,null,"bardzo dobre",null,2]
[null,null,"dobre",null,3]
[null,null,"poprawne",null,4]
[null,null,"nieodpowiednie",null,5]
[null,null,"naganne",null,6]
[null,null,null,null,"z"]
[null,null,null,null,"n"]
[null,null,null,null,"-"]

{"sheet":"Uczniowie","index":2,"n_rows":32,"n_cols":9,"rows_kept":32,"cut":false,"hidden":false,"merged":[[0,0,0,3],[0,5,0,8]]}
["Uczniowie wyróżniający się w nauce średnia >=4,75\n(na podstawie wszystkich przedmitów)",null,null,null,null,"Uczniowie z problemami w nauce średnia <=3,0\n(j.polski, j. obce, historia, matematyka, przyroda,\ngeografia, biologia, chemia, fizyka)"]
["Lp.","Nazwisko i imię","średnia","zachowanie",null,"Lp.","Nazwisko i imię","średnia","zachowanie"]
[1,null,null,null,null,1]
[{"$f":"IF(B4<>\"\",A3+1,\"\")","v":""},null,null,null,null,{"$f":"IF(G4<>\"\",F3+1,\"\")","v":""}]
[{"$f":"IF(B5<>\"\",A4+1,\"\")","v":""},null,null,null,null,""]
[{"$f":"IF(B6<>\"\",A5+1,\"\")","v":""},null,null,null,null,""]
[{"$f":"IF(B7<>\"\",A6+1,\"\")","v":""},null,null,null,null,""]
[{"$f":"IF(B8<>\"\",A7+1,\"\")","v":""},null,null,null,null,""]
["",null,null,null,null,""]
["",null,null,null,null,""]
["",null,null,null,null,""]
["",null,null,null,null,""]
["",null,null,null,null,""]
["",null,null,null,null,""]
["",null,null,null,null,""]
["",null,null,null,null,""]
["",null,null,null,null,""]
["",null,null,null,null,""]
["",null,null,null,null,""]
["",null,null,null,null,""]
["",null,null,null,null,""]
["",null,null,null,null,""]
["",null,null,null,null,""]
["",null,null,null,null,""]
["",null,null,null,null,""]
["",null,null,null,null,""]
["",null,null,null,null,""]
["",null,null,null,null,""]
["",null,null,null,null,""]
["",null,null,null,null,""]
["",null,null,null,null,""]
["",null,null,null,null,""]

{"sheet":"Uczniowie I","index":3,"n_rows":68,"n_cols":5,"rows_kept":68,"cut":false,"hidden":false,"merged":[[0,0,0,4],[23,0,23,4],[46,0,46,4]]}
["Uczniowie nieklasyfikowani"]
["Lp.","Nazwisko i imię","przedmiot","Przyczyny","Spsoby udzielanego wsparcia"]
[1]
[{"$f":"IF(B4<>\"\",A3+1,\"\")","v":""}]
[""]
[""]
[""]
[""]
[""]
[""]
[""]
[""]
[""]
[""]
[""]
[""]
[""]
[""]
[""]
[""]
[""]
[""]
[]
["Uczniowie z ocenami niedostatecznymi"]
["Lp.","Nazwisko i imię","przedmiot","Przyczyny","Spsoby udzielanego wsparcia"]
[1]
[{"$f":"IF(B27<>\"\",A26+1,\"\")","v":""}]
[""]
[""]
[""]
[""]
[""]
[""]
[""]
[""]
[""]
[""]
[""]
[""]
[""]
[""]
[""]
[""]
[""]
[""]
[]
["Uczniowie z obniżonymi ocenami z zachowania"]
["Lp.","Nazwisko i imię","ocena","Przyczyny","Spsoby udzielanego wsparcia"]
[1]
[{"$f":"IF(B50<>\"\",A49+1,\"\")","v":""}]
[""]
[""]
[""]
[""]
[""]
[""]
[""]
[""]
[""]
[""]
[""]
[""]
[""]
[""]
[""]
[""]
[""]
[""]

{"sheet":"Uczniowie II","index":4,"n_rows":31,"n_cols":12,"rows_kept":31,"cut":false,"hidden":false,"merged":[[0,0,0,5]]}
["Uczniowie, którym świadczona jest pomoc psychologiczno - pedagogiczna\n(posiadający opinię lub orzeczenie oraz wskazani przez wychowawcę lub innego nauczyciela, rodzica itp.\n\nUwzględnić również uczniów, którzy korzystają TYLKO Z FORM WSPARCIA PODCZAS ZAJĘĆ LEKCYJNYCH I PRACY W DOMU)"]
["Lp.","Nazwisko i imię","Podstawa udzielania wsparcia\n(opinia ppp, wniosek nauczyciela, rodzica itp.)","Data rozpoczęcia udzielania pomocy\n(np. data wpływu opinii, wniosku)","Formy wsparcia","Uzyskane efekty",null,"1.",{"$f":"IF('Arkusz zbiorczy'!B3<>\"\",'Arkusz zbiorczy'!B3,\"\")","v":""},null,null,"opinia-orzeczenie ppp"]
[1,null,null,null,null,null,null,"2.",{"$f":"IF('Arkusz zbiorczy'!B4<>\"\",'Arkusz zbiorczy'!B4,\"\")","v":""},null,null,"wniosek wychowawcy"]
[{"$f":"IF(B4<>\"\",A3+1,\"\")","v":""},null,null,null,null,null,null,"3.",{"$f":"IF('Arkusz zbiorczy'!B5<>\"\",'Arkusz zbiorczy'!B5,\"\")","v":""},null,null,"wniosek nauczyciela"]
[{"$f":"IF(B5<>\"\",A4+1,\"\")","v":""},null,null,null,null,null,null,"4.",{"$f":"IF('Arkusz zbiorczy'!B6<>\"\",'Arkusz zbiorczy'!B6,\"\")","v":""},null,null,"wniosek rodzica"]
["",null,null,null,null,null,null,"5.",{"$f":"IF('Arkusz zbiorczy'!B7<>\"\",'Arkusz zbiorczy'!B7,\"\")","v":""}]
["",null,null,null,null,null,null,"6.",{"$f":"IF('Arkusz zbiorczy'!B8<>\"\",'Arkusz zbiorczy'!B8,\"\")","v":""}]
["",null,null,null,null,null,null,"7.",{"$f":"IF('Arkusz zbiorczy'!B9<>\"\",'Arkusz zbiorczy'!B9,\"\")","v":""}]
["",null,null,null,null,null,null,"8.",{"$f":"IF('Arkusz zbiorczy'!B10<>\"\",'Arkusz zbiorczy'!B10,\"\")","v":""}]
["",null,null,null,null,null,null,"9.",{"$f":"IF('Arkusz zbiorczy'!B11<>\"\",'Arkusz zbiorczy'!B11,\"\")","v":""}]
["",null,null,null,null,null,null,"10.",{"$f":"IF('Arkusz zbiorczy'!B12<>\"\",'Arkusz zbiorczy'!B12,\"\")","v":""}]
["",null,null,null,null,null,null,"11.",{"$f":"IF('Arkusz zbiorczy'!B13<>\"\",'Arkusz zbiorczy'!B13,\"\")","v":""}]
["",null,null,null,null,null,null,"12.",{"$f":"IF('Arkusz zbiorczy'!B14<>\"\",'Arkusz zbiorczy'!B14,\"\")","v":""}]
["",null,null,null,null,null,null,"13.",{"$f":"IF('Arkusz zbiorczy'!B15<>\"\",'Arkusz zbiorczy'!B15,\"\")","v":""}]
["",null,null,null,null,null,null,"14.",{"$f":"IF('Arkusz zbiorczy'!B16<>\"\",'Arkusz zbiorczy'!B16,\"\")","v":""}]
[{"$f":"IF(B16<>\"\",A15+1,\"\")","v":""},null,null,null,null,null,null,"15.",{"$f":"IF('Arkusz zbiorczy'!B17<>\"\",'Arkusz zbiorczy'!B17,\"\")","v":""}]
["",null,null,null,null,null,null,"16.",{"$f":"IF('Arkusz zbiorczy'!B18<>\"\",'Arkusz zbiorczy'!B18,\"\")","v":""}]
["",null,null,null,null,null,null,"17.",{"$f":"IF('Arkusz zbiorczy'!B19<>\"\",'Arkusz zbiorczy'!B19,\"\")","v":""}]
["",null,null,null,null,null,null,"18.",{"$f":"IF('Arkusz zbiorczy'!B20<>\"\",'Arkusz zbiorczy'!B20,\"\")","v":""}]
["",null,null,null,null,null,null,"19.",{"$f":"IF('Arkusz zbiorczy'!B21<>\"\",'Arkusz zbiorczy'!B21,\"\")","v":""}]
["",null,null,null,null,null,null,"20.",{"$f":"IF('Arkusz zbiorczy'!B22<>\"\",'Arkusz zbiorczy'!B22,\"\")","v":""}]
["",null,null,null,null,null,null,"21.",{"$f":"IF('Arkusz zbiorczy'!B23<>\"\",'Arkusz zbiorczy'!B23,\"\")","v":""}]
["",null,null,null,null,null,null,"22.",{"$f":"IF('Arkusz zbiorczy'!B24<>\"\",'Arkusz zbiorczy'!B24,\"\")","v":""}]
["",null,null,null,null,null,null,"23.",{"$f":"IF('Arkusz zbiorczy'!B25<>\"\",'Arkusz zbiorczy'!B25,\"\")","v":""}]
["",null,null,null,null,null,null,"24.",{"$f":"IF('Arkusz zbiorczy'!B26<>\"\",'Arkusz zbiorczy'!B26,\"\")","v":""}]
["",null,null,null,null,null,null,"25.",{"$f":"IF('Arkusz zbiorczy'!B27<>\"\",'Arkusz zbiorczy'!B27,\"\")","v":""}]
[null,null,null,null,null,null,null,"26.",{"$f":"IF('Arkusz zbiorczy'!B28<>\"\",'Arkusz zbiorczy'!B28,\"\")","v":""}]
[null,null,null,null,null,null,null,"27.",{"$f":"IF('Arkusz zbiorczy'!B29<>\"\",'Arkusz zbiorczy'!B29,\"\")","v":""}]
[null,null,null,null,null,null,null,"28.",{"$f":"IF('Arkusz zbiorczy'!B30<>\"\",'Arkusz zbiorczy'!B30,\"\")","v":""}]
[null,null,null,null,null,null,null,"29.",{"$f":"IF('Arkusz zbiorczy'!B31<>\"\",'Arkusz zbiorczy'!B31,\"\")","v":""}]
[null,null,null,null,null,null,null,"30.",{"$f":"IF('Arkusz zbiorczy'!B32<>\"\",'Arkusz zbiorczy'!B32,\"\")","v":""}]

{"sheet":"Uczniowie III","index":5,"n_rows":32,"n_cols":7,"rows_kept":32,"cut":false,"hidden":false,"merged":[[0,0,0,3]]}
["Uczniowie szczególnej troski (zdrowotne, rodzinne, emocjonalne, finansowe i inne)"]
["Lp.","Nazwisko i imię","Trudności","Sposoby wsparcia"]
[1,null,null,null,null,1,{"$f":"IF('Arkusz zbiorczy'!B3<>\"\",'Arkusz zbiorczy'!B3,\"\")","v":""}]
[{"$f":"IF(B4<>\"\",A3+1,\"\")","v":""},null,null,null,null,2,{"$f":"IF('Arkusz zbiorczy'!B4<>\"\",'Arkusz zbiorczy'!B4,\"\")","v":""}]
["",null,null,null,null,3,{"$f":"IF('Arkusz zbiorczy'!B5<>\"\",'Arkusz zbiorczy'!B5,\"\")","v":""}]
["",null,null,null,null,4,{"$f":"IF('Arkusz zbiorczy'!B6<>\"\",'Arkusz zbiorczy'!B6,\"\")","v":""}]
["",null,null,null,null,5,{"$f":"IF('Arkusz zbiorczy'!B7<>\"\",'Arkusz zbiorczy'!B7,\"\")","v":""}]
["",null,null,null,null,6,{"$f":"IF('Arkusz zbiorczy'!B8<>\"\",'Arkusz zbiorczy'!B8,\"\")","v":""}]
["",null,null,null,null,7,{"$f":"IF('Arkusz zbiorczy'!B9<>\"\",'Arkusz zbiorczy'!B9,\"\")","v":""}]
["",null,null,null,null,8,{"$f":"IF('Arkusz zbiorczy'!B10<>\"\",'Arkusz zbiorczy'!B10,\"\")","v":""}]
["",null,null,null,null,9,{"$f":"IF('Arkusz zbiorczy'!B11<>\"\",'Arkusz zbiorczy'!B11,\"\")","v":""}]
["",null,null,null,null,10,{"$f":"IF('Arkusz zbiorczy'!B12<>\"\",'Arkusz zbiorczy'!B12,\"\")","v":""}]
["",null,null,null,null,11,{"$f":"IF('Arkusz zbiorczy'!B13<>\"\",'Arkusz zbiorczy'!B13,\"\")","v":""}]
["",null,null,null,null,12,{"$f":"IF('Arkusz zbiorczy'!B14<>\"\",'Arkusz zbiorczy'!B14,\"\")","v":""}]
["",null,null,null,null,13,{"$f":"IF('Arkusz zbiorczy'!B15<>\"\",'Arkusz zbiorczy'!B15,\"\")","v":""}]
["",null,null,null,null,14,{"$f":"IF('Arkusz zbiorczy'!B16<>\"\",'Arkusz zbiorczy'!B16,\"\")","v":""}]
["",null,null,null,null,15,{"$f":"IF('Arkusz zbiorczy'!B17<>\"\",'Arkusz zbiorczy'!B17,\"\")","v":""}]
["",null,null,null,null,16,{"$f":"IF('Arkusz zbiorczy'!B18<>\"\",'Arkusz zbiorczy'!B18,\"\")","v":""}]
["",null,null,null,null,17,{"$f":"IF('Arkusz zbiorczy'!B19<>\"\",'Arkusz zbiorczy'!B19,\"\")","v":""}]
["",null,null,null,null,18,{"$f":"IF('Arkusz zbiorczy'!B20<>\"\",'Arkusz zbiorczy'!B20,\"\")","v":""}]
[null,null,null,null,null,19,{"$f":"IF('Arkusz zbiorczy'!B21<>\"\",'Arkusz zbiorczy'!B21,\"\")","v":""}]
[null,null,null,null,null,20,{"$f":"IF('Arkusz zbiorczy'!B22<>\"\",'Arkusz zbiorczy'!B22,\"\")","v":""}]
[null,null,null,null,null,21,{"$f":"IF('Arkusz zbiorczy'!B23<>\"\",'Arkusz zbiorczy'!B23,\"\")","v":""}]
[null,null,null,null,null,22,{"$f":"IF('Arkusz zbiorczy'!B24<>\"\",'Arkusz zbiorczy'!B24,\"\")","v":""}]
[null,null,null,null,null,23,{"$f":"IF('Arkusz zbiorczy'!B25<>\"\",'Arkusz zbiorczy'!B25,\"\")","v":""}]
[null,null,null,null,null,24,{"$f":"IF('Arkusz zbiorczy'!B26<>\"\",'Arkusz zbiorczy'!B26,\"\")","v":""}]
[null,null,null,null,null,25,{"$f":"IF('Arkusz zbiorczy'!B27<>\"\",'Arkusz zbiorczy'!B27,\"\")","v":""}]
[null,null,null,null,null,26,{"$f":"IF('Arkusz zbiorczy'!B28<>\"\",'Arkusz zbiorczy'!B28,\"\")","v":""}]
[null,null,null,null,null,27,{"$f":"IF('Arkusz zbiorczy'!B29<>\"\",'Arkusz zbiorczy'!B29,\"\")","v":""}]
[null,null,null,null,null,28,{"$f":"IF('Arkusz zbiorczy'!B30<>\"\",'Arkusz zbiorczy'!B30,\"\")","v":""}]
[null,null,null,null,null,29,{"$f":"IF('Arkusz zbiorczy'!B31<>\"\",'Arkusz zbiorczy'!B31,\"\")","v":""}]
[null,null,null,null,null,30,{"$f":"IF('Arkusz zbiorczy'!B32<>\"\",'Arkusz zbiorczy'!B32,\"\")","v":""}]

{"sheet":"Sukcesy","index":6,"n_rows":20,"n_cols":3,"rows_kept":20,"cut":false,"hidden":false,"merged":[[0,0,0,2]]}
["Zaangażowanie klasy w życie szkolne i pozaszkolne\nw którym udział wzięło co najmniej 50% uczniów klasy\nkonkursy - zawody sportowe - reprezentowanie szkoły - występy - udział w programach"]
["Lp.","Data","Wydarzenie"]
[1]
[{"$f":"IF(B4<>\"\",A3+1,\"\")","v":""}]
[""]
[""]
[""]
[""]
[""]
[""]
[""]
[""]
[""]
[""]
[""]
[""]
[""]
[""]
[""]
[""]

{"sheet":"Wnioski","index":7,"n_rows":3,"n_cols":1,"rows_kept":3,"cut":false,"hidden":false,"merged":[]}
["WNIOSKI:\n\nMocne strony\nklasy"]
["WNIOSKI:\n\nSłabe strony\nklasy"]
["Rekomendacje do pracy z klasą w następnym roku szkolnym"]

{"sheet":"Wnioski II","index":8,"n_rows":3,"n_cols":1,"rows_kept":3,"cut":false,"hidden":false,"merged":[]}
["WNIOSKI:\n\nWspółpraca z rodzicami\nMocne strony"]
["WNIOSKI:\n\nWspółpraca z rodzicami\nSłabe strony"]
["Rekomendacje do pracy\nz rodzicami\nw następnym roku szkolnym"]

{"sheet":"Nobel","index":9,"n_rows":32,"n_cols":9,"rows_kept":32,"cut":false,"hidden":true,"merged":[[0,0,0,3]]}
["Uczniowie nominowani i uhonorowani nagrodą MINI NOBLA\noraz nominowani do WROCŁAWSKIEGO NOBLA oraz STYPENDIUM PREZYDENTA\nKażdą nominację lub nagrodę wprowadzić do osobego rekordu"]
["Lp.","Nazwisko i imię","Dziedzina","Nominacja - Nagroda"]
[1,"",null,null,null,1,{"$f":"IF('Arkusz zbiorczy'!B3<>\"\",'Arkusz zbiorczy'!B3,\"\")","v":""},"nominacja","Język polski"]
[{"$f":"IF(B4<>\"\",A3+1,\"\")","v":""},null,null,null,null,2,{"$f":"IF('Arkusz zbiorczy'!B4<>\"\",'Arkusz zbiorczy'!B4,\"\")","v":""},"Mini Nobel","Język angielski"]
["",null,null,null,null,3,{"$f":"IF('Arkusz zbiorczy'!B5<>\"\",'Arkusz zbiorczy'!B5,\"\")","v":""},"Mini Nobel INTER PRIMUS","Język hiszpański"]
["",null,null,null,null,4,{"$f":"IF('Arkusz zbiorczy'!B6<>\"\",'Arkusz zbiorczy'!B6,\"\")","v":""},"Mini Nobel INTER SCHOLIS","Historia"]
["",null,null,null,null,5,{"$f":"IF('Arkusz zbiorczy'!B7<>\"\",'Arkusz zbiorczy'!B7,\"\")","v":""},"Mini Nobel SPORTOWIEC ROKU","Matematyka"]
["",null,null,null,null,6,{"$f":"IF('Arkusz zbiorczy'!B8<>\"\",'Arkusz zbiorczy'!B8,\"\")","v":""},"nominacja do stypendium Prezydenta","Przyroda"]
["",null,null,null,null,7,{"$f":"IF('Arkusz zbiorczy'!B9<>\"\",'Arkusz zbiorczy'!B9,\"\")","v":""},"nominacja do Wrocławskiego Nobla","Muzyka"]
["",null,null,null,null,8,{"$f":"IF('Arkusz zbiorczy'!B10<>\"\",'Arkusz zbiorczy'!B10,\"\")","v":""},null,"Plastyka"]
["",null,null,null,null,9,{"$f":"IF('Arkusz zbiorczy'!B11<>\"\",'Arkusz zbiorczy'!B11,\"\")","v":""},null,"Technika"]
["",null,null,null,null,10,{"$f":"IF('Arkusz zbiorczy'!B12<>\"\",'Arkusz zbiorczy'!B12,\"\")","v":""},null,"Informatyka"]
["",null,null,null,null,11,{"$f":"IF('Arkusz zbiorczy'!B13<>\"\",'Arkusz zbiorczy'!B13,\"\")","v":""},null,"Sport"]
["",null,null,null,null,12,{"$f":"IF('Arkusz zbiorczy'!B14<>\"\",'Arkusz zbiorczy'!B14,\"\")","v":""},null,"Interdyscyplinarny"]
["",null,null,null,null,13,{"$f":"IF('Arkusz zbiorczy'!B15<>\"\",'Arkusz zbiorczy'!B15,\"\")","v":""},null,"Reprezentowanie SP17"]
["",null,null,null,null,14,{"$f":"IF('Arkusz zbiorczy'!B16<>\"\",'Arkusz zbiorczy'!B16,\"\")","v":""}]
["",null,null,null,null,15,{"$f":"IF('Arkusz zbiorczy'!B17<>\"\",'Arkusz zbiorczy'!B17,\"\")","v":""}]
["",null,null,null,null,16,{"$f":"IF('Arkusz zbiorczy'!B18<>\"\",'Arkusz zbiorczy'!B18,\"\")","v":""}]
["",null,null,null,null,17,{"$f":"IF('Arkusz zbiorczy'!B19<>\"\",'Arkusz zbiorczy'!B19,\"\")","v":""}]
["",null,null,null,null,18,{"$f":"IF('Arkusz zbiorczy'!B20<>\"\",'Arkusz zbiorczy'!B20,\"\")","v":""}]
[null,null,null,null,null,19,{"$f":"IF('Arkusz zbiorczy'!B21<>\"\",'Arkusz zbiorczy'!B21,\"\")","v":""}]
[null,null,null,null,null,20,{"$f":"IF('Arkusz zbiorczy'!B22<>\"\",'Arkusz zbiorczy'!B22,\"\")","v":""}]
[null,null,null,null,null,21,{"$f":"IF('Arkusz zbiorczy'!B23<>\"\",'Arkusz zbiorczy'!B23,\"\")","v":""}]
[null,null,null,null,null,22,{"$f":"IF('Arkusz zbiorczy'!B24<>\"\",'Arkusz zbiorczy'!B24,\"\")","v":""}]
[null,null,null,null,null,23,{"$f":"IF('Arkusz zbiorczy'!B25<>\"\",'Arkusz zbiorczy'!B25,\"\")","v":""}]
[null,null,null,null,null,24,{"$f":"IF('Arkusz zbiorczy'!B26<>\"\",'Arkusz zbiorczy'!B26,\"\")","v":""}]
[null,null,null,null,null,25,{"$f":"IF('Arkusz zbiorczy'!B27<>\"\",'Arkusz zbiorczy'!B27,\"\")","v":""}]
[null,null,null,null,null,26,{"$f":"IF('Arkusz zbiorczy'!B28<>\"\",'Arkusz zbiorczy'!B28,\"\")","v":""}]
[null,null,null,null,null,27,{"$f":"IF('Arkusz zbiorczy'!B29<>\"\",'Arkusz zbiorczy'!B29,\"\")","v":""}]
[null,null,null,null,null,28,{"$f":"IF('Arkusz zbiorczy'!B30<>\"\",'Arkusz zbiorczy'!B30,\"\")","v":""}]
[null,null,null,null,null,29,{"$f":"IF('Arkusz zbiorczy'!B31<>\"\",'Arkusz zbiorczy'!B31,\"\")","v":""}]
[null,null,null,null,null,30,{"$f":"IF('Arkusz zbiorczy'!B32<>\"\",'Arkusz zbiorczy'!B32,\"\")","v":""}]

{"sheet":"LekcjeZrealizowane","index":10,"n_rows":26,"n_cols":6,"rows_kept":26,"cut":false,"hidden":true,"merged":[[0,0,0,2]]}
["Wypełniają wychowawcy klas IV - VIII",null,null,null,"Liczba tygodni",17]
["Przedmiot","Liczba godzin planowanych w tygodniu","Liczba godzin zrealizowanych\ndo 17 stycznia 2020 r.",null,"Liczba h/semestr","%"]
["język polski",null,null,null,{"$f":"B3*$F$1","v":0},{"$f":"IF(E3>0,C3/E3,\"\")","v":""}]
["język obcy (3 godz.) gr. 1",null,null,null,{"$f":"B4*$F$1","v":0},{"$f":"IF(E4>0,C4/E4,\"\")","v":""}]
["język obcy (3 godz.) gr. 2",null,null,null,0,""]
["język obcy (3 godz.) gr. 3",null,null,null,0,""]
["język obcy (2 godz.) gr. 1",null,null,null,0,""]
["język obcy (2 godz.) gr. 2",null,null,null,0,""]
["historia",null,null,null,0,""]
["matematyka",null,null,null,0,""]
["przyroda",null,null,null,0,""]
["geografia",null,null,null,0,""]
["biologia",null,null,null,0,""]
["chemia",null,null,null,0,""]
["fizyka",null,null,null,0,""]
["wiedza o społeczeństwie",null,null,null,0,""]
["muzyka",null,null,null,0,""]
["plastyka",null,null,null,0,""]
["technika",null,null,null,0,""]
["informatyka gr. 1",null,null,null,0,""]
["informatyka gr. 2",null,null,null,0,""]
["w - f gr. 1",null,null,null,0,""]
["w - f gr. 2",null,null,null,0,""]
["pływanie gr. 1",null,null,null,0,""]
["pływanie gr. 2",null,null,null,0,""]
["edukacja dla bezpieczeństwa",null,null,null,0,""]

{"sheet":"Zachowanie 1","index":11,"n_rows":33,"n_cols":33,"rows_kept":33,"cut":false,"hidden":false,"merged":[[0,0,0,7]]}
["Oceny od uczniów"]
[null,null,"1.","2.","3.","4.","5.","6.","7.","8.","9.","10.","11.","12.","13.","14.","15.","16.","17.","18.","19.","20.","21.","22.","23.","24.","25.","26.","27.","28.","29.","30."]
[null,"Nazwisko i imię",{"$f":"B4","v":""},{"$f":"B5","v":""},{"$f":"B6","v":""},{"$f":"B7","v":""},{"$f":"B8","v":""},{"$f":"B9","v":""},{"$f":"B10","v":""},{"$f":"B11","v":""},{"$f":"B12","v":""},{"$f":"B13","v":""},{"$f":"B14","v":""},{"$f":"B15","v":""},{"$f":"B16","v":""},{"$f":"B17","v":""},{"$f":"B18","v":""},{"$f":"B19","v":""},{"$f":"B20","v":""},{"$f":"B21","v":""},{"$f":"B22","v":""},{"$f":"B23","v":""},{"$f":"B24","v":""},{"$f":"B25","v":""},{"$f":"B26","v":""},{"$f":"B27","v":""},{"$f":"B28","v":""},{"$f":"B29","v":""},{"$f":"B30","v":""},{"$f":"B31","v":""},{"$f":"B32","v":""},{"$f":"B33","v":""}]
["1.",{"$f":"IF('Arkusz zbiorczy'!B3<>0,'Arkusz zbiorczy'!B3,\"\")","v":""},null,null,null,null,null,null,null,null,null,null,null,null,null,null,null,null,null,null,null,null,null,null,null,null,null,null,null,null,null,null,{"$f":"IF(B4<>\"\",IF(SUM(C4:AF4)>0,AVERAGE(C4:AF4),0),\"\")","v":""}]
["2.",{"$f":"IF('Arkusz zbiorczy'!B4<>0,'Arkusz zbiorczy'!B4,\"\")","v":""},null,null,null,null,null,null,null,null,null,null,null,null,null,null,null,null,null,null,null,null,null,null,null,null,null,null,null,null,null,null,{"$f":"IF(B5<>\"\",IF(SUM(C5:AF5)>0,AVERAGE(C5:AF5),0),\"\")","v":""}]
["3.",{"$f":"IF('Arkusz zbiorczy'!B5<>0,'Arkusz zbiorczy'!B5,\"\")","v":""},null,null,null,null,null,null,null,null,null,null,null,null,null,null,null,null,null,null,null,null,null,null,null,null,null,null,null,null,null,null,{"$f":"IF(B6<>\"\",IF(SUM(C6:AF6)>0,AVERAGE(C6:AF6),0),\"\")","v":""}]
["4.",{"$f":"IF('Arkusz zbiorczy'!B6<>0,'Arkusz zbiorczy'!B6,\"\")","v":""},null,null,null,null,null,null,null,null,null,null,null,null,null,null,null,null,null,null,null,null,null,null,null,null,null,null,null,null,null,null,{"$f":"IF(B7<>\"\",IF(SUM(C7:AF7)>0,AVERAGE(C7:AF7),0),\"\")","v":""}]
["5.",{"$f":"IF('Arkusz zbiorczy'!B7<>0,'Arkusz zbiorczy'!B7,\"\")","v":""},null,null,null,null,null,null,null,null,null,null,null,null,null,null,null,null,null,null,null,null,null,null,null,null,null,null,null,null,null,null,{"$f":"IF(B8<>\"\",IF(SUM(C8:AF8)>0,AVERAGE(C8:AF8),0),\"\")","v":""}]
["6.",{"$f":"IF('Arkusz zbiorczy'!B8<>0,'Arkusz zbiorczy'!B8,\"\")","v":""},null,null,null,null,null,null,null,null,null,null,null,null,null,null,null,null,null,null,null,null,null,null,null,null,null,null,null,null,null,null,{"$f":"IF(B9<>\"\",IF(SUM(C9:AF9)>0,AVERAGE(C9:AF9),0),\"\")","v":""}]
["7.",{"$f":"IF('Arkusz zbiorczy'!B9<>0,'Arkusz zbiorczy'!B9,\"\")","v":""},null,null,null,null,null,null,null,null,null,null,null,null,null,null,null,null,null,null,null,null,null,null,null,null,null,null,null,null,null,null,{"$f":"IF(B10<>\"\",IF(SUM(C10:AF10)>0,AVERAGE(C10:AF10),0),\"\")","v":""}]
["8.",{"$f":"IF('Arkusz zbiorczy'!B10<>0,'Arkusz zbiorczy'!B10,\"\")","v":""},null,null,null,null,null,null,null,null,null,null,null,null,null,null,null,null,null,null,null,null,null,null,null,null,null,null,null,null,null,null,{"$f":"IF(B11<>\"\",IF(SUM(C11:AF11)>0,AVERAGE(C11:AF11),0),\"\")","v":""}]
["9.",{"$f":"IF('Arkusz zbiorczy'!B11<>0,'Arkusz zbiorczy'!B11,\"\")","v":""},null,null,null,null,null,null,null,null,null,null,null,null,null,null,null,null,null,null,null,null,null,null,null,null,null,null,null,null,null,null,{"$f":"IF(B12<>\"\",IF(SUM(C12:AF12)>0,AVERAGE(C12:AF12),0),\"\")","v":""}]
["10.",{"$f":"IF('Arkusz zbiorczy'!B12<>0,'Arkusz zbiorczy'!B12,\"\")","v":""},null,null,null,null,null,null,null,null,null,null,null,null,null,null,null,null,null,null,null,null,null,null,null,null,null,null,null,null,null,null,{"$f":"IF(B13<>\"\",IF(SUM(C13:AF13)>0,AVERAGE(C13:AF13),0),\"\")","v":""}]
["11.",{"$f":"IF('Arkusz zbiorczy'!B13<>0,'Arkusz zbiorczy'!B13,\"\")","v":""},null,null,null,null,null,null,null,null,null,null,null,null,null,null,null,null,null,null,null,null,null,null,null,null,null,null,null,null,null,null,{"$f":"IF(B14<>\"\",IF(SUM(C14:AF14)>0,AVERAGE(C14:AF14),0),\"\")","v":""}]
["12.",{"$f":"IF('Arkusz zbiorczy'!B14<>0,'Arkusz zbiorczy'!B14,\"\")","v":""},null,null,null,null,null,null,null,null,null,null,null,null,null,null,null,null,null,null,null,null,null,null,null,null,null,null,null,null,null,null,{"$f":"IF(B15<>\"\",IF(SUM(C15:AF15)>0,AVERAGE(C15:AF15),0),\"\")","v":""}]
["13.",{"$f":"IF('Arkusz zbiorczy'!B15<>0,'Arkusz zbiorczy'!B15,\"\")","v":""},null,null,null,null,null,null,null,null,null,null,null,null,null,null,null,null,null,null,null,null,null,null,null,null,null,null,null,null,null,null,{"$f":"IF(B16<>\"\",IF(SUM(C16:AF16)>0,AVERAGE(C16:AF16),0),\"\")","v":""}]
["14.",{"$f":"IF('Arkusz zbiorczy'!B16<>0,'Arkusz zbiorczy'!B16,\"\")","v":""},null,null,null,null,null,null,null,null,null,null,null,null,null,null,null,null,null,null,null,null,null,null,null,null,null,null,null,null,null,null,{"$f":"IF(B17<>\"\",IF(SUM(C17:AF17)>0,AVERAGE(C17:AF17),0),\"\")","v":""}]
["15.",{"$f":"IF('Arkusz zbiorczy'!B17<>0,'Arkusz zbiorczy'!B17,\"\")","v":""},null,null,null,null,null,null,null,null,null,null,null,null,null,null,null,null,null,null,null,null,null,null,null,null,null,null,null,null,null,null,{"$f":"IF(B18<>\"\",IF(SUM(C18:AF18)>0,AVERAGE(C18:AF18),0),\"\")","v":""}]
["16.",{"$f":"IF('Arkusz zbiorczy'!B18<>0,'Arkusz zbiorczy'!B18,\"\")","v":""},null,null,null,null,null,null,null,null,null,null,null,null,null,null,null,null,null,null,null,null,null,null,null,null,null,null,null,null,null,null,{"$f":"IF(B19<>\"\",IF(SUM(C19:AF19)>0,AVERAGE(C19:AF19),0),\"\")","v":""}]
["17.",{"$f":"IF('Arkusz zbiorczy'!B19<>0,'Arkusz zbiorczy'!B19,\"\")","v":""},null,null,null,null,null,null,null,null,null,null,null,null,null,null,null,null,null,null,null,null,null,null,null,null,null,null,null,null,null,null,{"$f":"IF(B20<>\"\",IF(SUM(C20:AF20)>0,AVERAGE(C20:AF20),0),\"\")","v":""}]
["18.",{"$f":"IF('Arkusz zbiorczy'!B20<>0,'Arkusz zbiorczy'!B20,\"\")","v":""},null,null,null,null,null,null,null,null,null,null,null,null,null,null,null,null,null,null,null,null,null,null,null,null,null,null,null,null,null,null,{"$f":"IF(B21<>\"\",IF(SUM(C21:AF21)>0,AVERAGE(C21:AF21),0),\"\")","v":""}]
["19.",{"$f":"IF('Arkusz zbiorczy'!B21<>0,'Arkusz zbiorczy'!B21,\"\")","v":""},null,null,null,null,null,null,null,null,null,null,null,null,null,null,null,null,null,null,null,null,null,null,null,null,null,null,null,null,null,null,{"$f":"IF(B22<>\"\",IF(SUM(C22:AF22)>0,AVERAGE(C22:AF22),0),\"\")","v":""}]
["20.",{"$f":"IF('Arkusz zbiorczy'!B22<>0,'Arkusz zbiorczy'!B22,\"\")","v":""},null,null,null,null,null,null,null,null,null,null,null,null,null,null,null,null,null,null,null,null,null,null,null,null,null,null,null,null,null,null,{"$f":"IF(B23<>\"\",IF(SUM(C23:AF23)>0,AVERAGE(C23:AF23),0),\"\")","v":""}]
["21.",{"$f":"IF('Arkusz zbiorczy'!B23<>0,'Arkusz zbiorczy'!B23,\"\")","v":""},null,null,null,null,null,null,null,null,null,null,null,null,null,null,null,null,null,null,null,null,null,null,null,null,null,null,null,null,null,null,{"$f":"IF(B24<>\"\",IF(SUM(C24:AF24)>0,AVERAGE(C24:AF24),0),\"\")","v":""}]
["22.",{"$f":"IF('Arkusz zbiorczy'!B24<>0,'Arkusz zbiorczy'!B24,\"\")","v":""},null,null,null,null,null,null,null,null,null,null,null,null,null,null,null,null,null,null,null,null,null,null,null,null,null,null,null,null,null,null,{"$f":"IF(B25<>\"\",IF(SUM(C25:AF25)>0,AVERAGE(C25:AF25),0),\"\")","v":""}]
["23.",{"$f":"IF('Arkusz zbiorczy'!B25<>0,'Arkusz zbiorczy'!B25,\"\")","v":""},null,null,null,null,null,null,null,null,null,null,null,null,null,null,null,null,null,null,null,null,null,null,null,null,null,null,null,null,null,null,{"$f":"IF(B26<>\"\",IF(SUM(C26:AF26)>0,AVERAGE(C26:AF26),0),\"\")","v":""}]
["24.",{"$f":"IF('Arkusz zbiorczy'!B26<>0,'Arkusz zbiorczy'!B26,\"\")","v":""},null,null,null,null,null,null,null,null,null,null,null,null,null,null,null,null,null,null,null,null,null,null,null,null,null,null,null,null,null,null,{"$f":"IF(B27<>\"\",IF(SUM(C27:AF27)>0,AVERAGE(C27:AF27),0),\"\")","v":""}]
["25.",{"$f":"IF('Arkusz zbiorczy'!B27<>0,'Arkusz zbiorczy'!B27,\"\")","v":""},null,null,null,null,null,null,null,null,null,null,null,null,null,null,null,null,null,null,null,null,null,null,null,null,null,null,null,null,null,null,{"$f":"IF(B28<>\"\",IF(SUM(C28:AF28)>0,AVERAGE(C28:AF28),0),\"\")","v":""}]
["26.",{"$f":"IF('Arkusz zbiorczy'!B28<>0,'Arkusz zbiorczy'!B28,\"\")","v":""},null,null,null,null,null,null,null,null,null,null,null,null,null,null,null,null,null,null,null,null,null,null,null,null,null,null,null,null,null,null,{"$f":"IF(B29<>\"\",IF(SUM(C29:AF29)>0,AVERAGE(C29:AF29),0),\"\")","v":""}]
["27.",{"$f":"IF('Arkusz zbiorczy'!B29<>0,'Arkusz zbiorczy'!B29,\"\")","v":""},null,null,null,null,null,null,null,null,null,null,null,null,null,null,null,null,null,null,null,null,null,null,null,null,null,null,null,null,null,null,{"$f":"IF(B30<>\"\",IF(SUM(C30:AF30)>0,AVERAGE(C30:AF30),0),\"\")","v":""}]
["28.",{"$f":"IF('Arkusz zbiorczy'!B30<>0,'Arkusz zbiorczy'!B30,\"\")","v":""},null,null,null,null,null,null,null,null,null,null,null,null,null,null,null,null,null,null,null,null,null,null,null,null,null,null,null,null,null,null,{"$f":"IF(B31<>\"\",IF(SUM(C31:AF31)>0,AVERAGE(C31:AF31),0),\"\")","v":""}]
["29.",{"$f":"IF('Arkusz zbiorczy'!B31<>0,'Arkusz zbiorczy'!B31,\"\")","v":""},null,null,null,null,null,null,null,null,null,null,null,null,null,null,null,null,null,null,null,null,null,null,null,null,null,null,null,null,null,null,{"$f":"IF(B32<>\"\",IF(SUM(C32:AF32)>0,AVERAGE(C32:AF32),0),\"\")","v":""}]
["30.",{"$f":"IF('Arkusz zbiorczy'!B32<>0,'Arkusz zbiorczy'!B32,\"\")","v":""},null,null,null,null,null,null,null,null,null,null,null,null,null,null,null,null,null,null,null,null,null,null,null,null,null,null,null,null,null,null,{"$f":"IF(B33<>\"\",IF(SUM(C33:AF33)>0,AVERAGE(C33:AF33),0),\"\")","v":""}]

{"sheet":"Zachowanie 2","index":12,"n_rows":33,"n_cols":23,"rows_kept":33,"cut":false,"hidden":false,"merged":[[0,0,0,7]]}
["Oceny od nauczycieli"]
[null,null,"1.","2.","3.","4.","5.","6.","7.","8.","9.","10.","11.","12.","13.","14.","15.","16.","17.",null,"18.","19."]
[null,"Nazwisko i imię","j. polski","j.angielski","j. hiszpański/francuski","historia","matematyka","przyroda","geografia","biologia","chemia","fizyka","wiedza o społeczeństwie","muzyka","plastyka","informatyka","technika","w-f","pływanie","warsztaty twórcze","religia","etyka"]
["1.",{"$f":"IF('Arkusz zbiorczy'!B3<>0,'Arkusz zbiorczy'!B3,\"\")","v":""},null,null,null,null,null,null,null,null,null,null,null,null,null,null,null,null,null,null,null,null,{"$f":"IF(B4<>\"\",IF(SUM(C4:V4)>0,AVERAGE(C4:V4),0),\"\")","v":""}]
["2.",{"$f":"IF('Arkusz zbiorczy'!B4<>0,'Arkusz zbiorczy'!B4,\"\")","v":""},null,null,null,null,null,null,null,null,null,null,null,null,null,null,null,null,null,null,null,null,{"$f":"IF(B5<>\"\",IF(SUM(C5:V5)>0,AVERAGE(C5:V5),0),\"\")","v":""}]
["3.",{"$f":"IF('Arkusz zbiorczy'!B5<>0,'Arkusz zbiorczy'!B5,\"\")","v":""},null,null,null,null,null,null,null,null,null,null,null,null,null,null,null,null,null,null,null,null,{"$f":"IF(B6<>\"\",IF(SUM(C6:V6)>0,AVERAGE(C6:V6),0),\"\")","v":""}]
["4.",{"$f":"IF('Arkusz zbiorczy'!B6<>0,'Arkusz zbiorczy'!B6,\"\")","v":""},null,null,null,null,null,null,null,null,null,null,null,null,null,null,null,null,null,null,null,null,{"$f":"IF(B7<>\"\",IF(SUM(C7:V7)>0,AVERAGE(C7:V7),0),\"\")","v":""}]
["5.",{"$f":"IF('Arkusz zbiorczy'!B7<>0,'Arkusz zbiorczy'!B7,\"\")","v":""},null,null,null,null,null,null,null,null,null,null,null,null,null,null,null,null,null,null,null,null,{"$f":"IF(B8<>\"\",IF(SUM(C8:V8)>0,AVERAGE(C8:V8),0),\"\")","v":""}]
["6.",{"$f":"IF('Arkusz zbiorczy'!B8<>0,'Arkusz zbiorczy'!B8,\"\")","v":""},null,null,null,null,null,null,null,null,null,null,null,null,null,null,null,null,null,null,null,null,{"$f":"IF(B9<>\"\",IF(SUM(C9:V9)>0,AVERAGE(C9:V9),0),\"\")","v":""}]
["7.",{"$f":"IF('Arkusz zbiorczy'!B9<>0,'Arkusz zbiorczy'!B9,\"\")","v":""},null,null,null,null,null,null,null,null,null,null,null,null,null,null,null,null,null,null,null,null,{"$f":"IF(B10<>\"\",IF(SUM(C10:V10)>0,AVERAGE(C10:V10),0),\"\")","v":""}]
["8.",{"$f":"IF('Arkusz zbiorczy'!B10<>0,'Arkusz zbiorczy'!B10,\"\")","v":""},null,null,null,null,null,null,null,null,null,null,null,null,null,null,null,null,null,null,null,null,{"$f":"IF(B11<>\"\",IF(SUM(C11:V11)>0,AVERAGE(C11:V11),0),\"\")","v":""}]
["9.",{"$f":"IF('Arkusz zbiorczy'!B11<>0,'Arkusz zbiorczy'!B11,\"\")","v":""},null,null,null,null,null,null,null,null,null,null,null,null,null,null,null,null,null,null,null,null,{"$f":"IF(B12<>\"\",IF(SUM(C12:V12)>0,AVERAGE(C12:V12),0),\"\")","v":""}]
["10.",{"$f":"IF('Arkusz zbiorczy'!B12<>0,'Arkusz zbiorczy'!B12,\"\")","v":""},null,null,null,null,null,null,null,null,null,null,null,null,null,null,null,null,null,null,null,null,{"$f":"IF(B13<>\"\",IF(SUM(C13:V13)>0,AVERAGE(C13:V13),0),\"\")","v":""}]
["11.",{"$f":"IF('Arkusz zbiorczy'!B13<>0,'Arkusz zbiorczy'!B13,\"\")","v":""},null,null,null,null,null,null,null,null,null,null,null,null,null,null,null,null,null,null,null,null,{"$f":"IF(B14<>\"\",IF(SUM(C14:V14)>0,AVERAGE(C14:V14),0),\"\")","v":""}]
["12.",{"$f":"IF('Arkusz zbiorczy'!B14<>0,'Arkusz zbiorczy'!B14,\"\")","v":""},null,null,null,null,null,null,null,null,null,null,null,null,null,null,null,null,null,null,null,null,{"$f":"IF(B15<>\"\",IF(SUM(C15:V15)>0,AVERAGE(C15:V15),0),\"\")","v":""}]
["13.",{"$f":"IF('Arkusz zbiorczy'!B15<>0,'Arkusz zbiorczy'!B15,\"\")","v":""},null,null,null,null,null,null,null,null,null,null,null,null,null,null,null,null,null,null,null,null,{"$f":"IF(B16<>\"\",IF(SUM(C16:V16)>0,AVERAGE(C16:V16),0),\"\")","v":""}]
["14.",{"$f":"IF('Arkusz zbiorczy'!B16<>0,'Arkusz zbiorczy'!B16,\"\")","v":""},null,null,null,null,null,null,null,null,null,null,null,null,null,null,null,null,null,null,null,null,{"$f":"IF(B17<>\"\",IF(SUM(C17:V17)>0,AVERAGE(C17:V17),0),\"\")","v":""}]
["15.",{"$f":"IF('Arkusz zbiorczy'!B17<>0,'Arkusz zbiorczy'!B17,\"\")","v":""},null,null,null,null,null,null,null,null,null,null,null,null,null,null,null,null,null,null,null,null,{"$f":"IF(B18<>\"\",IF(SUM(C18:V18)>0,AVERAGE(C18:V18),0),\"\")","v":""}]
["16.",{"$f":"IF('Arkusz zbiorczy'!B18<>0,'Arkusz zbiorczy'!B18,\"\")","v":""},null,null,null,null,null,null,null,null,null,null,null,null,null,null,null,null,null,null,null,null,{"$f":"IF(B19<>\"\",IF(SUM(C19:V19)>0,AVERAGE(C19:V19),0),\"\")","v":""}]
["17.",{"$f":"IF('Arkusz zbiorczy'!B19<>0,'Arkusz zbiorczy'!B19,\"\")","v":""},null,null,null,null,null,null,null,null,null,null,null,null,null,null,null,null,null,null,null,null,{"$f":"IF(B20<>\"\",IF(SUM(C20:V20)>0,AVERAGE(C20:V20),0),\"\")","v":""}]
["18.",{"$f":"IF('Arkusz zbiorczy'!B20<>0,'Arkusz zbiorczy'!B20,\"\")","v":""},null,null,null,null,null,null,null,null,null,null,null,null,null,null,null,null,null,null,null,null,{"$f":"IF(B21<>\"\",IF(SUM(C21:V21)>0,AVERAGE(C21:V21),0),\"\")","v":""}]
["19.",{"$f":"IF('Arkusz zbiorczy'!B21<>0,'Arkusz zbiorczy'!B21,\"\")","v":""},null,null,null,null,null,null,null,null,null,null,null,null,null,null,null,null,null,null,null,null,{"$f":"IF(B22<>\"\",IF(SUM(C22:V22)>0,AVERAGE(C22:V22),0),\"\")","v":""}]
["20.",{"$f":"IF('Arkusz zbiorczy'!B22<>0,'Arkusz zbiorczy'!B22,\"\")","v":""},null,null,null,null,null,null,null,null,null,null,null,null,null,null,null,null,null,null,null,null,{"$f":"IF(B23<>\"\",IF(SUM(C23:V23)>0,AVERAGE(C23:V23),0),\"\")","v":""}]
["21.",{"$f":"IF('Arkusz zbiorczy'!B23<>0,'Arkusz zbiorczy'!B23,\"\")","v":""},null,null,null,null,null,null,null,null,null,null,null,null,null,null,null,null,null,null,null,null,{"$f":"IF(B24<>\"\",IF(SUM(C24:V24)>0,AVERAGE(C24:V24),0),\"\")","v":""}]
["22.",{"$f":"IF('Arkusz zbiorczy'!B24<>0,'Arkusz zbiorczy'!B24,\"\")","v":""},null,null,null,null,null,null,null,null,null,null,null,null,null,null,null,null,null,null,null,null,{"$f":"IF(B25<>\"\",IF(SUM(C25:V25)>0,AVERAGE(C25:V25),0),\"\")","v":""}]
["23.",{"$f":"IF('Arkusz zbiorczy'!B25<>0,'Arkusz zbiorczy'!B25,\"\")","v":""},null,null,null,null,null,null,null,null,null,null,null,null,null,null,null,null,null,null,null,null,{"$f":"IF(B26<>\"\",IF(SUM(C26:V26)>0,AVERAGE(C26:V26),0),\"\")","v":""}]
["24.",{"$f":"IF('Arkusz zbiorczy'!B26<>0,'Arkusz zbiorczy'!B26,\"\")","v":""},null,null,null,null,null,null,null,null,null,null,null,null,null,null,null,null,null,null,null,null,{"$f":"IF(B27<>\"\",IF(SUM(C27:V27)>0,AVERAGE(C27:V27),0),\"\")","v":""}]
["25.",{"$f":"IF('Arkusz zbiorczy'!B27<>0,'Arkusz zbiorczy'!B27,\"\")","v":""},null,null,null,null,null,null,null,null,null,null,null,null,null,null,null,null,null,null,null,null,{"$f":"IF(B28<>\"\",IF(SUM(C28:V28)>0,AVERAGE(C28:V28),0),\"\")","v":""}]
["26.",{"$f":"IF('Arkusz zbiorczy'!B28<>0,'Arkusz zbiorczy'!B28,\"\")","v":""},null,null,null,null,null,null,null,null,null,null,null,null,null,null,null,null,null,null,null,null,{"$f":"IF(B29<>\"\",IF(SUM(C29:V29)>0,AVERAGE(C29:V29),0),\"\")","v":""}]
["27.",{"$f":"IF('Arkusz zbiorczy'!B29<>0,'Arkusz zbiorczy'!B29,\"\")","v":""},null,null,null,null,null,null,null,null,null,null,null,null,null,null,null,null,null,null,null,null,{"$f":"IF(B30<>\"\",IF(SUM(C30:V30)>0,AVERAGE(C30:V30),0),\"\")","v":""}]
["28.",{"$f":"IF('Arkusz zbiorczy'!B30<>0,'Arkusz zbiorczy'!B30,\"\")","v":""},null,null,null,null,null,null,null,null,null,null,null,null,null,null,null,null,null,null,null,null,{"$f":"IF(B31<>\"\",IF(SUM(C31:V31)>0,AVERAGE(C31:V31),0),\"\")","v":""}]
["29.",{"$f":"IF('Arkusz zbiorczy'!B31<>0,'Arkusz zbiorczy'!B31,\"\")","v":""},null,null,null,null,null,null,null,null,null,null,null,null,null,null,null,null,null,null,null,null,{"$f":"IF(B32<>\"\",IF(SUM(C32:V32)>0,AVERAGE(C32:V32),0),\"\")","v":""}]
["30.",{"$f":"IF('Arkusz zbiorczy'!B32<>0,'Arkusz zbiorczy'!B32,\"\")","v":""},null,null,null,null,null,null,null,null,null,null,null,null,null,null,null,null,null,null,null,null,{"$f":"IF(B33<>\"\",IF(SUM(C33:V33)>0,AVERAGE(C33:V33),0),\"\")","v":""}]

{"sheet":"Zachowanie 3","index":13,"n_rows":33,"n_cols":19,"rows_kept":33,"cut":false,"hidden":false,"merged":[[0,0,0,8]]}
["Oceny zachowania"]
[null,null,"1.","2.","3.","4.","5.","6.","7.","8.","9.","10."]
[null,"Nazwisko i imię","Ocena od uczniów","Ocena od nauczycieli","Nagany (ilość)","Uwagi (ilość)","Brak obowiązującego stroju i emblematu (ilość)","Godziny nieuspraw. (ilość)","Spóźnienia (ilość)","Pochwał (ilość)","Bonusy max 5 pkt",null,null,null,"ostateczna ocena"]
["1.",{"$f":"IF('Arkusz zbiorczy'!B3<>0,'Arkusz zbiorczy'!B3,\"\")","v":""},{"$f":"'Zachowanie 1'!AG4","v":""},{"$f":"'Zachowanie 2'!W4","v":""},null,null,null,null,null,null,null,null,{"$f":"IF(B4<>\"\",SUM(C4:D4)+IF(SUM(E4:G4)=0,4,4-(INT(E4/2)+IF(F4>0,INT(F4/6),0)+IF(G4>=3,INT(G4/6),0)))+IF((H4+I4)=0,5,4-IF((H4+(I4/2))>5,INT((H4+IF(I4>0,INT(I4/2),0))/6),0))+IF(J4>=54,4,INT(J4/14))+IF(K4>5,5,K4),\"\")","v":""},{"$f":"IFERROR(ROUND(OcenaZmiana(M4,E4,F4,I4,H4),0),\"\")","v":""},{"$f":"IF(N4<>\"\",VLOOKUP(N4,$Q$4:$R$9,2),\"\")","v":""},null,0,"naganne",{"$f":"COUNTIF($O$4:$O$33,R4)","v":0}]
["2.",{"$f":"IF('Arkusz zbiorczy'!B4<>0,'Arkusz zbiorczy'!B4,\"\")","v":""},{"$f":"'Zachowanie 1'!AG5","v":""},{"$f":"'Zachowanie 2'!W5","v":""},null,null,null,null,null,null,null,null,{"$f":"IF(B5<>\"\",SUM(C5:D5)+IF(SUM(E5:G5)=0,4,4-(INT(E5/2)+IF(F5>0,INT(F5/6),0)+IF(G5>=3,INT(G5/6),0)))+IF((H5+I5)=0,5,4-IF((H5+(I5/2))>5,INT((H5+IF(I5>0,INT(I5/2),0))/6),0))+IF(J5>=54,4,INT(J5/14))+IF(K5>5,5,K5),\"\")","v":""},{"$f":"IFERROR(ROUND(OcenaZmiana(M5,E5,F5,I5,H5),0),\"\")","v":""},{"$f":"IF(N5<>\"\",VLOOKUP(N5,$Q$4:$R$9,2),\"\")","v":""},null,8,"nieodpowiednie",0]
["3.",{"$f":"IF('Arkusz zbiorczy'!B5<>0,'Arkusz zbiorczy'!B5,\"\")","v":""},{"$f":"'Zachowanie 1'!AG6","v":""},{"$f":"'Zachowanie 2'!W6","v":""},null,null,null,null,null,null,null,null,{"$f":"IF(B6<>\"\",SUM(C6:D6)+IF(SUM(E6:G6)=0,4,4-(INT(E6/2)+IF(F6>0,INT(F6/6),0)+IF(G6>=3,INT(G6/6),0)))+IF((H6+I6)=0,5,4-IF((H6+(I6/2))>5,INT((H6+IF(I6>0,INT(I6/2),0))/6),0))+IF(J6>=54,4,INT(J6/14))+IF(K6>5,5,K6),\"\")","v":""},{"$f":"IFERROR(ROUND(OcenaZmiana(M6,E6,F6,I6,H6),0),\"\")","v":""},{"$f":"IF(N6<>\"\",VLOOKUP(N6,$Q$4:$R$9,2),\"\")","v":""},null,12,"poprawne",0]
["4.",{"$f":"IF('Arkusz zbiorczy'!B6<>0,'Arkusz zbiorczy'!B6,\"\")","v":""},{"$f":"'Zachowanie 1'!AG7","v":""},{"$f":"'Zachowanie 2'!W7","v":""},null,null,null,null,null,null,null,null,{"$f":"IF(B7<>\"\",SUM(C7:D7)+IF(SUM(E7:G7)=0,4,4-(INT(E7/2)+IF(F7>0,INT(F7/6),0)+IF(G7>=3,INT(G7/6),0)))+IF((H7+I7)=0,5,4-IF((H7+(I7/2))>5,INT((H7+IF(I7>0,INT(I7/2),0))/6),0))+IF(J7>=54,4,INT(J7/14))+IF(K7>5,5,K7),\"\")","v":""},{"$f":"IFERROR(ROUND(OcenaZmiana(M7,E7,F7,I7,H7),0),\"\")","v":""},{"$f":"IF(N7<>\"\",VLOOKUP(N7,$Q$4:$R$9,2),\"\")","v":""},null,15,"dobre",0]
["5.",{"$f":"IF('Arkusz zbiorczy'!B7<>0,'Arkusz zbiorczy'!B7,\"\")","v":""},{"$f":"'Zachowanie 1'!AG8","v":""},{"$f":"'Zachowanie 2'!W8","v":""},null,null,null,null,null,null,null,null,{"$f":"IF(B8<>\"\",SUM(C8:D8)+IF(SUM(E8:G8)=0,4,4-(INT(E8/2)+IF(F8>0,INT(F8/6),0)+IF(G8>=3,INT(G8/6),0)))+IF((H8+I8)=0,5,4-IF((H8+(I8/2))>5,INT((H8+IF(I8>0,INT(I8/2),0))/6),0))+IF(J8>=54,4,INT(J8/14))+IF(K8>5,5,K8),\"\")","v":""},{"$f":"IFERROR(ROUND(OcenaZmiana(M8,E8,F8,I8,H8),0),\"\")","v":""},{"$f":"IF(N8<>\"\",VLOOKUP(N8,$Q$4:$R$9,2),\"\")","v":""},null,18,"bardzo dobre",0]
["6.",{"$f":"IF('Arkusz zbiorczy'!B8<>0,'Arkusz zbiorczy'!B8,\"\")","v":""},{"$f":"'Zachowanie 1'!AG9","v":""},{"$f":"'Zachowanie 2'!W9","v":""},null,null,null,null,null,null,null,null,{"$f":"IF(B9<>\"\",SUM(C9:D9)+IF(SUM(E9:G9)=0,4,4-(INT(E9/2)+IF(F9>0,INT(F9/6),0)+IF(G9>=3,INT(G9/6),0)))+IF((H9+I9)=0,5,4-IF((H9+(I9/2))>5,INT((H9+IF(I9>0,INT(I9/2),0))/6),0))+IF(J9>=54,4,INT(J9/14))+IF(K9>5,5,K9),\"\")","v":""},{"$f":"IFERROR(ROUND(OcenaZmiana(M9,E9,F9,I9,H9),0),\"\")","v":""},{"$f":"IF(N9<>\"\",VLOOKUP(N9,$Q$4:$R$9,2),\"\")","v":""},null,21,"wzorowe",0]
["7.",{"$f":"IF('Arkusz zbiorczy'!B9<>0,'Arkusz zbiorczy'!B9,\"\")","v":""},{"$f":"'Zachowanie 1'!AG10","v":""},{"$f":"'Zachowanie 2'!W10","v":""},null,null,null,null,null,null,null,null,{"$f":"IF(B10<>\"\",SUM(C10:D10)+IF(SUM(E10:G10)=0,4,4-(INT(E10/2)+IF(F10>0,INT(F10/6),0)+IF(G10>=3,INT(G10/6),0)))+IF((H10+I10)=0,5,4-IF((H10+(I10/2))>5,INT((H10+IF(I10>0,INT(I10/2),0))/6),0))+IF(J10>=54,4,INT(J10/14))+IF(K10>5,5,K10),\"\")","v":""},{"$f":"IFERROR(ROUND(OcenaZmiana(M10,E10,F10,I10,H10),0),\"\")","v":""},{"$f":"IF(N10<>\"\",VLOOKUP(N10,$Q$4:$R$9,2),\"\")","v":""}]
["8.",{"$f":"IF('Arkusz zbiorczy'!B10<>0,'Arkusz zbiorczy'!B10,\"\")","v":""},{"$f":"'Zachowanie 1'!AG11","v":""},{"$f":"'Zachowanie 2'!W11","v":""},null,null,null,null,null,null,null,null,{"$f":"IF(B11<>\"\",SUM(C11:D11)+IF(SUM(E11:G11)=0,4,4-(INT(E11/2)+IF(F11>0,INT(F11/6),0)+IF(G11>=3,INT(G11/6),0)))+IF((H11+I11)=0,5,4-IF((H11+(I11/2))>5,INT((H11+IF(I11>0,INT(I11/2),0))/6),0))+IF(J11>=54,4,INT(J11/14))+IF(K11>5,5,K11),\"\")","v":""},{"$f":"IFERROR(ROUND(OcenaZmiana(M11,E11,F11,I11,H11),0),\"\")","v":""},{"$f":"IF(N11<>\"\",VLOOKUP(N11,$Q$4:$R$9,2),\"\")","v":""}]
["9.",{"$f":"IF('Arkusz zbiorczy'!B11<>0,'Arkusz zbiorczy'!B11,\"\")","v":""},{"$f":"'Zachowanie 1'!AG12","v":""},{"$f":"'Zachowanie 2'!W12","v":""},null,null,null,null,null,null,null,null,{"$f":"IF(B12<>\"\",SUM(C12:D12)+IF(SUM(E12:G12)=0,4,4-(INT(E12/2)+IF(F12>0,INT(F12/6),0)+IF(G12>=3,INT(G12/6),0)))+IF((H12+I12)=0,5,4-IF((H12+(I12/2))>5,INT((H12+IF(I12>0,INT(I12/2),0))/6),0))+IF(J12>=54,4,INT(J12/14))+IF(K12>5,5,K12),\"\")","v":""},{"$f":"IFERROR(ROUND(OcenaZmiana(M12,E12,F12,I12,H12),0),\"\")","v":""},{"$f":"IF(N12<>\"\",VLOOKUP(N12,$Q$4:$R$9,2),\"\")","v":""}]
["10.",{"$f":"IF('Arkusz zbiorczy'!B12<>0,'Arkusz zbiorczy'!B12,\"\")","v":""},{"$f":"'Zachowanie 1'!AG13","v":""},{"$f":"'Zachowanie 2'!W13","v":""},null,null,null,null,null,null,null,null,{"$f":"IF(B13<>\"\",SUM(C13:D13)+IF(SUM(E13:G13)=0,4,4-(INT(E13/2)+IF(F13>0,INT(F13/6),0)+IF(G13>=3,INT(G13/6),0)))+IF((H13+I13)=0,5,4-IF((H13+(I13/2))>5,INT((H13+IF(I13>0,INT(I13/2),0))/6),0))+IF(J13>=54,4,INT(J13/14))+IF(K13>5,5,K13),\"\")","v":""},{"$f":"IFERROR(ROUND(OcenaZmiana(M13,E13,F13,I13,H13),0),\"\")","v":""},{"$f":"IF(N13<>\"\",VLOOKUP(N13,$Q$4:$R$9,2),\"\")","v":""}]
["11.",{"$f":"IF('Arkusz zbiorczy'!B13<>0,'Arkusz zbiorczy'!B13,\"\")","v":""},{"$f":"'Zachowanie 1'!AG14","v":""},{"$f":"'Zachowanie 2'!W14","v":""},null,null,null,null,null,null,null,null,{"$f":"IF(B14<>\"\",SUM(C14:D14)+IF(SUM(E14:G14)=0,4,4-(INT(E14/2)+IF(F14>0,INT(F14/6),0)+IF(G14>=3,INT(G14/6),0)))+IF((H14+I14)=0,5,4-IF((H14+(I14/2))>5,INT((H14+IF(I14>0,INT(I14/2),0))/6),0))+IF(J14>=54,4,INT(J14/14))+IF(K14>5,5,K14),\"\")","v":""},{"$f":"IFERROR(ROUND(OcenaZmiana(M14,E14,F14,I14,H14),0),\"\")","v":""},{"$f":"IF(N14<>\"\",VLOOKUP(N14,$Q$4:$R$9,2),\"\")","v":""}]
["12.",{"$f":"IF('Arkusz zbiorczy'!B14<>0,'Arkusz zbiorczy'!B14,\"\")","v":""},{"$f":"'Zachowanie 1'!AG15","v":""},{"$f":"'Zachowanie 2'!W15","v":""},null,null,null,null,null,null,null,null,{"$f":"IF(B15<>\"\",SUM(C15:D15)+IF(SUM(E15:G15)=0,4,4-(INT(E15/2)+IF(F15>0,INT(F15/6),0)+IF(G15>=3,INT(G15/6),0)))+IF((H15+I15)=0,5,4-IF((H15+(I15/2))>5,INT((H15+IF(I15>0,INT(I15/2),0))/6),0))+IF(J15>=54,4,INT(J15/14))+IF(K15>5,5,K15),\"\")","v":""},{"$f":"IFERROR(ROUND(OcenaZmiana(M15,E15,F15,I15,H15),0),\"\")","v":""},{"$f":"IF(N15<>\"\",VLOOKUP(N15,$Q$4:$R$9,2),\"\")","v":""}]
["13.",{"$f":"IF('Arkusz zbiorczy'!B15<>0,'Arkusz zbiorczy'!B15,\"\")","v":""},{"$f":"'Zachowanie 1'!AG16","v":""},{"$f":"'Zachowanie 2'!W16","v":""},null,null,null,null,null,null,null,null,{"$f":"IF(B16<>\"\",SUM(C16:D16)+IF(SUM(E16:G16)=0,4,4-(INT(E16/2)+IF(F16>0,INT(F16/6),0)+IF(G16>=3,INT(G16/6),0)))+IF((H16+I16)=0,5,4-IF((H16+(I16/2))>5,INT((H16+IF(I16>0,INT(I16/2),0))/6),0))+IF(J16>=54,4,INT(J16/14))+IF(K16>5,5,K16),\"\")","v":""},{"$f":"IFERROR(ROUND(OcenaZmiana(M16,E16,F16,I16,H16),0),\"\")","v":""},{"$f":"IF(N16<>\"\",VLOOKUP(N16,$Q$4:$R$9,2),\"\")","v":""}]
["14.",{"$f":"IF('Arkusz zbiorczy'!B16<>0,'Arkusz zbiorczy'!B16,\"\")","v":""},{"$f":"'Zachowanie 1'!AG17","v":""},{"$f":"'Zachowanie 2'!W17","v":""},null,null,null,null,null,null,null,null,{"$f":"IF(B17<>\"\",SUM(C17:D17)+IF(SUM(E17:G17)=0,4,4-(INT(E17/2)+IF(F17>0,INT(F17/6),0)+IF(G17>=3,INT(G17/6),0)))+IF((H17+I17)=0,5,4-IF((H17+(I17/2))>5,INT((H17+IF(I17>0,INT(I17/2),0))/6),0))+IF(J17>=54,4,INT(J17/14))+IF(K17>5,5,K17),\"\")","v":""},{"$f":"IFERROR(ROUND(OcenaZmiana(M17,E17,F17,I17,H17),0),\"\")","v":""},{"$f":"IF(N17<>\"\",VLOOKUP(N17,$Q$4:$R$9,2),\"\")","v":""}]
["15.",{"$f":"IF('Arkusz zbiorczy'!B17<>0,'Arkusz zbiorczy'!B17,\"\")","v":""},{"$f":"'Zachowanie 1'!AG18","v":""},{"$f":"'Zachowanie 2'!W18","v":""},null,null,null,null,null,null,null,null,{"$f":"IF(B18<>\"\",SUM(C18:D18)+IF(SUM(E18:G18)=0,4,4-(INT(E18/2)+IF(F18>0,INT(F18/6),0)+IF(G18>=3,INT(G18/6),0)))+IF((H18+I18)=0,5,4-IF((H18+(I18/2))>5,INT((H18+IF(I18>0,INT(I18/2),0))/6),0))+IF(J18>=54,4,INT(J18/14))+IF(K18>5,5,K18),\"\")","v":""},{"$f":"IFERROR(ROUND(OcenaZmiana(M18,E18,F18,I18,H18),0),\"\")","v":""},{"$f":"IF(N18<>\"\",VLOOKUP(N18,$Q$4:$R$9,2),\"\")","v":""}]
["16.",{"$f":"IF('Arkusz zbiorczy'!B18<>0,'Arkusz zbiorczy'!B18,\"\")","v":""},{"$f":"'Zachowanie 1'!AG19","v":""},{"$f":"'Zachowanie 2'!W19","v":""},null,null,null,null,null,null,null,null,{"$f":"IF(B19<>\"\",SUM(C19:D19)+IF(SUM(E19:G19)=0,4,4-(INT(E19/2)+IF(F19>0,INT(F19/6),0)+IF(G19>=3,INT(G19/6),0)))+IF((H19+I19)=0,5,4-IF((H19+(I19/2))>5,INT((H19+IF(I19>0,INT(I19/2),0))/6),0))+IF(J19>=54,4,INT(J19/14))+IF(K19>5,5,K19),\"\")","v":""},{"$f":"IFERROR(ROUND(OcenaZmiana(M19,E19,F19,I19,H19),0),\"\")","v":""},{"$f":"IF(N19<>\"\",VLOOKUP(N19,$Q$4:$R$9,2),\"\")","v":""}]
["17.",{"$f":"IF('Arkusz zbiorczy'!B19<>0,'Arkusz zbiorczy'!B19,\"\")","v":""},{"$f":"'Zachowanie 1'!AG20","v":""},{"$f":"'Zachowanie 2'!W20","v":""},null,null,null,null,null,null,null,null,{"$f":"IF(B20<>\"\",SUM(C20:D20)+IF(SUM(E20:G20)=0,4,4-(INT(E20/2)+IF(F20>0,INT(F20/6),0)+IF(G20>=3,INT(G20/6),0)))+IF((H20+I20)=0,5,4-IF((H20+(I20/2))>5,INT((H20+IF(I20>0,INT(I20/2),0))/6),0))+IF(J20>=54,4,INT(J20/14))+IF(K20>5,5,K20),\"\")","v":""},{"$f":"IFERROR(ROUND(OcenaZmiana(M20,E20,F20,I20,H20),0),\"\")","v":""},{"$f":"IF(N20<>\"\",VLOOKUP(N20,$Q$4:$R$9,2),\"\")","v":""}]
["18.",{"$f":"IF('Arkusz zbiorczy'!B20<>0,'Arkusz zbiorczy'!B20,\"\")","v":""},{"$f":"'Zachowanie 1'!AG21","v":""},{"$f":"'Zachowanie 2'!W21","v":""},null,null,null,null,null,null,null,null,{"$f":"IF(B21<>\"\",SUM(C21:D21)+IF(SUM(E21:G21)=0,4,4-(INT(E21/2)+IF(F21>0,INT(F21/6),0)+IF(G21>=3,INT(G21/6),0)))+IF((H21+I21)=0,5,4-IF((H21+(I21/2))>5,INT((H21+IF(I21>0,INT(I21/2),0))/6),0))+IF(J21>=54,4,INT(J21/14))+IF(K21>5,5,K21),\"\")","v":""},{"$f":"IFERROR(ROUND(OcenaZmiana(M21,E21,F21,I21,H21),0),\"\")","v":""},{"$f":"IF(N21<>\"\",VLOOKUP(N21,$Q$4:$R$9,2),\"\")","v":""}]
["19.",{"$f":"IF('Arkusz zbiorczy'!B21<>0,'Arkusz zbiorczy'!B21,\"\")","v":""},{"$f":"'Zachowanie 1'!AG22","v":""},{"$f":"'Zachowanie 2'!W22","v":""},null,null,null,null,null,null,null,null,{"$f":"IF(B22<>\"\",SUM(C22:D22)+IF(SUM(E22:G22)=0,4,4-(INT(E22/2)+IF(F22>0,INT(F22/6),0)+IF(G22>=3,INT(G22/6),0)))+IF((H22+I22)=0,5,4-IF((H22+(I22/2))>5,INT((H22+IF(I22>0,INT(I22/2),0))/6),0))+IF(J22>=54,4,INT(J22/14))+IF(K22>5,5,K22),\"\")","v":""},{"$f":"IFERROR(ROUND(OcenaZmiana(M22,E22,F22,I22,H22),0),\"\")","v":""},{"$f":"IF(N22<>\"\",VLOOKUP(N22,$Q$4:$R$9,2),\"\")","v":""}]
["20.",{"$f":"IF('Arkusz zbiorczy'!B22<>0,'Arkusz zbiorczy'!B22,\"\")","v":""},{"$f":"'Zachowanie 1'!AG23","v":""},{"$f":"'Zachowanie 2'!W23","v":""},null,null,null,null,null,null,null,null,{"$f":"IF(B23<>\"\",SUM(C23:D23)+IF(SUM(E23:G23)=0,4,4-(INT(E23/2)+IF(F23>0,INT(F23/6),0)+IF(G23>=3,INT(G23/6),0)))+IF((H23+I23)=0,5,4-IF((H23+(I23/2))>5,INT((H23+IF(I23>0,INT(I23/2),0))/6),0))+IF(J23>=54,4,INT(J23/14))+IF(K23>5,5,K23),\"\")","v":""},{"$f":"IFERROR(ROUND(OcenaZmiana(M23,E23,F23,I23,H23),0),\"\")","v":""},{"$f":"IF(N23<>\"\",VLOOKUP(N23,$Q$4:$R$9,2),\"\")","v":""}]
["21.",{"$f":"IF('Arkusz zbiorczy'!B23<>0,'Arkusz zbiorczy'!B23,\"\")","v":""},{"$f":"'Zachowanie 1'!AG24","v":""},{"$f":"'Zachowanie 2'!W24","v":""},null,null,null,null,null,null,null,null,{"$f":"IF(B24<>\"\",SUM(C24:D24)+IF(SUM(E24:G24)=0,4,4-(INT(E24/2)+IF(F24>0,INT(F24/6),0)+IF(G24>=3,INT(G24/6),0)))+IF((H24+I24)=0,5,4-IF((H24+(I24/2))>5,INT((H24+IF(I24>0,INT(I24/2),0))/6),0))+IF(J24>=54,4,INT(J24/14))+IF(K24>5,5,K24),\"\")","v":""},{"$f":"IFERROR(ROUND(OcenaZmiana(M24,E24,F24,I24,H24),0),\"\")","v":""},{"$f":"IF(N24<>\"\",VLOOKUP(N24,$Q$4:$R$9,2),\"\")","v":""}]
["22.",{"$f":"IF('Arkusz zbiorczy'!B24<>0,'Arkusz zbiorczy'!B24,\"\")","v":""},{"$f":"'Zachowanie 1'!AG25","v":""},{"$f":"'Zachowanie 2'!W25","v":""},null,null,null,null,null,null,null,null,{"$f":"IF(B25<>\"\",SUM(C25:D25)+IF(SUM(E25:G25)=0,4,4-(INT(E25/2)+IF(F25>0,INT(F25/6),0)+IF(G25>=3,INT(G25/6),0)))+IF((H25+I25)=0,5,4-IF((H25+(I25/2))>5,INT((H25+IF(I25>0,INT(I25/2),0))/6),0))+IF(J25>=54,4,INT(J25/14))+IF(K25>5,5,K25),\"\")","v":""},{"$f":"IFERROR(ROUND(OcenaZmiana(M25,E25,F25,I25,H25),0),\"\")","v":""},{"$f":"IF(N25<>\"\",VLOOKUP(N25,$Q$4:$R$9,2),\"\")","v":""}]
["23.",{"$f":"IF('Arkusz zbiorczy'!B25<>0,'Arkusz zbiorczy'!B25,\"\")","v":""},{"$f":"'Zachowanie 1'!AG26","v":""},{"$f":"'Zachowanie 2'!W26","v":""},null,null,null,null,null,null,null,null,{"$f":"IF(B26<>\"\",SUM(C26:D26)+IF(SUM(E26:G26)=0,4,4-(INT(E26/2)+IF(F26>0,INT(F26/6),0)+IF(G26>=3,INT(G26/6),0)))+IF((H26+I26)=0,5,4-IF((H26+(I26/2))>5,INT((H26+IF(I26>0,INT(I26/2),0))/6),0))+IF(J26>=54,4,INT(J26/14))+IF(K26>5,5,K26),\"\")","v":""},{"$f":"IFERROR(ROUND(OcenaZmiana(M26,E26,F26,I26,H26),0),\"\")","v":""},{"$f":"IF(N26<>\"\",VLOOKUP(N26,$Q$4:$R$9,2),\"\")","v":""}]
["24.",{"$f":"IF('Arkusz zbiorczy'!B26<>0,'Arkusz zbiorczy'!B26,\"\")","v":""},{"$f":"'Zachowanie 1'!AG27","v":""},{"$f":"'Zachowanie 2'!W27","v":""},null,null,null,null,null,null,null,null,{"$f":"IF(B27<>\"\",SUM(C27:D27)+IF(SUM(E27:G27)=0,4,4-(INT(E27/2)+IF(F27>0,INT(F27/6),0)+IF(G27>=3,INT(G27/6),0)))+IF((H27+I27)=0,5,4-IF((H27+(I27/2))>5,INT((H27+IF(I27>0,INT(I27/2),0))/6),0))+IF(J27>=54,4,INT(J27/14))+IF(K27>5,5,K27),\"\")","v":""},{"$f":"IFERROR(ROUND(OcenaZmiana(M27,E27,F27,I27,H27),0),\"\")","v":""},{"$f":"IF(N27<>\"\",VLOOKUP(N27,$Q$4:$R$9,2),\"\")","v":""}]
["25.",{"$f":"IF('Arkusz zbiorczy'!B27<>0,'Arkusz zbiorczy'!B27,\"\")","v":""},{"$f":"'Zachowanie 1'!AG28","v":""},{"$f":"'Zachowanie 2'!W28","v":""},null,null,null,null,null,null,null,null,{"$f":"IF(B28<>\"\",SUM(C28:D28)+IF(SUM(E28:G28)=0,4,4-(INT(E28/2)+IF(F28>0,INT(F28/6),0)+IF(G28>=3,INT(G28/6),0)))+IF((H28+I28)=0,5,4-IF((H28+(I28/2))>5,INT((H28+IF(I28>0,INT(I28/2),0))/6),0))+IF(J28>=54,4,INT(J28/14))+IF(K28>5,5,K28),\"\")","v":""},{"$f":"IFERROR(ROUND(OcenaZmiana(M28,E28,F28,I28,H28),0),\"\")","v":""},{"$f":"IF(N28<>\"\",VLOOKUP(N28,$Q$4:$R$9,2),\"\")","v":""}]
["26.",{"$f":"IF('Arkusz zbiorczy'!B28<>0,'Arkusz zbiorczy'!B28,\"\")","v":""},{"$f":"'Zachowanie 1'!AG29","v":""},{"$f":"'Zachowanie 2'!W29","v":""},null,null,null,null,null,null,null,null,{"$f":"IF(B29<>\"\",SUM(C29:D29)+IF(SUM(E29:G29)=0,4,4-(INT(E29/2)+IF(F29>0,INT(F29/6),0)+IF(G29>=3,INT(G29/6),0)))+IF((H29+I29)=0,5,4-IF((H29+(I29/2))>5,INT((H29+IF(I29>0,INT(I29/2),0))/6),0))+IF(J29>=54,4,INT(J29/14))+IF(K29>5,5,K29),\"\")","v":""},{"$f":"IFERROR(ROUND(OcenaZmiana(M29,E29,F29,I29,H29),0),\"\")","v":""},{"$f":"IF(N29<>\"\",VLOOKUP(N29,$Q$4:$R$9,2),\"\")","v":""}]
["27.",{"$f":"IF('Arkusz zbiorczy'!B29<>0,'Arkusz zbiorczy'!B29,\"\")","v":""},{"$f":"'Zachowanie 1'!AG30","v":""},{"$f":"'Zachowanie 2'!W30","v":""},null,null,null,null,null,null,null,null,{"$f":"IF(B30<>\"\",SUM(C30:D30)+IF(SUM(E30:G30)=0,4,4-(INT(E30/2)+IF(F30>0,INT(F30/6),0)+IF(G30>=3,INT(G30/6),0)))+IF((H30+I30)=0,5,4-IF((H30+(I30/2))>5,INT((H30+IF(I30>0,INT(I30/2),0))/6),0))+IF(J30>=54,4,INT(J30/14))+IF(K30>5,5,K30),\"\")","v":""},{"$f":"IFERROR(ROUND(OcenaZmiana(M30,E30,F30,I30,H30),0),\"\")","v":""},{"$f":"IF(N30<>\"\",VLOOKUP(N30,$Q$4:$R$9,2),\"\")","v":""}]
["28.",{"$f":"IF('Arkusz zbiorczy'!B30<>0,'Arkusz zbiorczy'!B30,\"\")","v":""},{"$f":"'Zachowanie 1'!AG31","v":""},{"$f":"'Zachowanie 2'!W31","v":""},null,null,null,null,null,null,null,null,{"$f":"IF(B31<>\"\",SUM(C31:D31)+IF(SUM(E31:G31)=0,4,4-(INT(E31/2)+IF(F31>0,INT(F31/6),0)+IF(G31>=3,INT(G31/6),0)))+IF((H31+I31)=0,5,4-IF((H31+(I31/2))>5,INT((H31+IF(I31>0,INT(I31/2),0))/6),0))+IF(J31>=54,4,INT(J31/14))+IF(K31>5,5,K31),\"\")","v":""},{"$f":"IFERROR(ROUND(OcenaZmiana(M31,E31,F31,I31,H31),0),\"\")","v":""},{"$f":"IF(N31<>\"\",VLOOKUP(N31,$Q$4:$R$9,2),\"\")","v":""}]
["29.",{"$f":"IF('Arkusz zbiorczy'!B31<>0,'Arkusz zbiorczy'!B31,\"\")","v":""},{"$f":"'Zachowanie 1'!AG32","v":""},{"$f":"'Zachowanie 2'!W32","v":""},null,null,null,null,null,null,null,null,{"$f":"IF(B32<>\"\",SUM(C32:D32)+IF(SUM(E32:G32)=0,4,4-(INT(E32/2)+IF(F32>0,INT(F32/6),0)+IF(G32>=3,INT(G32/6),0)))+IF((H32+I32)=0,5,4-IF((H32+(I32/2))>5,INT((H32+IF(I32>0,INT(I32/2),0))/6),0))+IF(J32>=54,4,INT(J32/14))+IF(K32>5,5,K32),\"\")","v":""},{"$f":"IFERROR(ROUND(OcenaZmiana(M32,E32,F32,I32,H32),0),\"\")","v":""},{"$f":"IF(N32<>\"\",VLOOKUP(N32,$Q$4:$R$9,2),\"\")","v":""}]
["30.",{"$f":"IF('Arkusz zbiorczy'!B32<>0,'Arkusz zbiorczy'!B32,\"\")","v":""},{"$f":"'Zachowanie 1'!AG33","v":""},{"$f":"'Zachowanie 2'!W33","v":""},null,null,null,null,null,null,null,null,{"$f":"IF(B33<>\"\",SUM(C33:D33)+IF(SUM(E33:G33)=0,4,4-(INT(E33/2)+IF(F33>0,INT(F33/6),0)+IF(G33>=3,INT(G33/6),0)))+IF((H33+I33)=0,5,4-IF((H33+(I33/2))>5,INT((H33+IF(I33>0,INT(I33/2),0))/6),0))+IF(J33>=54,4,INT(J33/14))+IF(K33>5,5,K33),\"\")","v":""},{"$f":"IFERROR(ROUND(OcenaZmiana(M33,E33,F33,I33,H33),0),\"\")","v":""},{"$f":"IF(N33<>\"\",VLOOKUP(N33,$Q$4:$R$9,2),\"\")","v":""}]